Workbook

Sheet 기술능력평가 최종 결과표
B2: 제안평가 최종 결과표
B4: 입찰건명 | D4: 2026년 공단 제36주년 창립기념품 구매대행 용역
B6: 순번 | C6: 업체명 | D6: 제안서평가점수 | J6: 평가 평균 점수 | K6: 협상 적격 여부
D7: 정량평가 (10점) | E7: 정성평가 (70점)
D8: 경영상태 (10) | E8: 상품구성 (15) | F8: 운영역량 (20) | G8: 전용시스템 구축·운영 (10) | H8: 개인정보 보호방안(10) | I8: 사후관리 (15)
B9: 1 | C9: 주식회사 천우굿프랜즈 | D9: ='점수집계표(주식회사 천우굿프랜즈)'!D15 -> 9.5 | E9: ='점수집계표(주식회사 천우굿프랜즈)'!E15 -> 14 | F9: ='점수집계표(주식회사 천우굿프랜즈)'!F15 -> 20 | G9: ='점수집계표(주식회사 천우굿프랜즈)'!G15 -> 10 | H9: ='점수집계표(주식회사 천우굿프랜즈)'!H15 -> 10 | I9: ='점수집계표(주식회사 천우굿프랜즈)'!I15 -> 14 | J9: ='점수집계표(주식회사 천우굿프랜즈)'!J15 -> 77.5 | K9: 적격(1순위)
B10: 2 | C10: 주식회사 드림로드커뮤니케이션즈 | D10: ='점수집계표(주식회사 드림로드커뮤니케이션즈)'!D15 -> 9 | E10: ='점수집계표(주식회사 드림로드커뮤니케이션즈)'!E15 -> 15 | F10: ='점수집계표(주식회사 드림로드커뮤니케이션즈)'!F15 -> 19 | G10: ='점수집계표(주식회사 드림로드커뮤니케이션즈)'!G15 -> 10 | H10: ='점수집계표(주식회사 드림로드커뮤니케이션즈)'!H15 -> 10 | I10: ='점수집계표(주식회사 드림로드커뮤니케이션즈)'!I15 -> 14 | J10: ='점수집계표(주식회사 드림로드커뮤니케이션즈)'!J15 -> 77 | K10: 적격(2순위)
B11: 3 | C11: 대박컴퍼니 | D11: ='점수집계표(대박컴퍼니)'!D15 -> 9.5 | E11: ='점수집계표(대박컴퍼니)'!E15 -> 9 | F11: ='점수집계표(대박컴퍼니)'!F15 -> 14 | G11: ='점수집계표(대박컴퍼니)'!G15 -> 6 | H11: ='점수집계표(대박컴퍼니)'!H15 -> 6.6666667 | I11: ='점수집계표(대박컴퍼니)'!I15 -> 9 | J11: ='점수집계표(대박컴퍼니)'!J15 -> 54.166667 | K11: 부적격
I13: 심사일자: | J13: 2026.08.07.
I14: 담 당 자: | J14: 조 강 원

Sheet 점수집계표(주식회사 천우굿프랜즈)
B2: 제안평가 점수 집계표
B4: 제안업체명 | D4: 주식회사 천우굿프랜즈
B6: 순번 | C6: 평가위원 | D6: 평가점수
D7: 정량평가 (10점) | E7: 정성평가 (70점)
D8: 경영상태(10) | E8: 상품구성 (15) | F8: 운영역량 (20) | G8: 전용시스템 구축·운영 (10) | H8: 개인정보 보호방안(10) | I8: 사후관리 (15) | J8: 합계
B9: 1 | C9: A | D9: 9.5 | E9: 15 | F9: 20 | G9: 10 | H9: 10 | I9: 15 | J9: =SUM(D9:I9) -> 79.5 | L9: 최고
B10: 2 | C10: B | D10: 9.5 | E10: 12 | F10: 20 | G10: 10 | H10: 10 | I10: 12 | J10: =SUM(D10:I10) -> 73.5 | L10: 최저
B11: 3 | C11: C | D11: 9.5 | E11: 12 | F11: 20 | G11: 10 | H11: 10 | I11: 15 | J11: =SUM(D11:I11) -> 76.5
B12: 4 | C12: D | D12: 9.5 | E12: 15 | F12: 20 | G12: 10 | H12: 10 | I12: 12 | J12: =SUM(D12:I12) -> 76.5
B13: 5 | C13: E | D13: 9.5 | E13: 15 | F13: 20 | G13: 10 | H13: 10 | I13: 15 | J13: =SUM(D13:I13) -> 79.5
B14: 총계 | D14: =SUM(D11:D13) -> 28.5 | E14: =SUM(E11:E13) -> 42 | F14: =SUM(F11:F13) -> 60 | G14: =SUM(G11:G13) -> 30 | H14: =SUM(H11:H13) -> 30 | I14: =SUM(I11:I13) -> 42 | J14: =SUM(J11:J13) -> 232.5
B15: 평균점수 | D15: =D14/3 -> 9.5 | E15: =E14/3 -> 14 | F15: =F14/3 -> 20 | G15: =G14/3 -> 10 | H15: =H14/3 -> 10 | I15: =I14/3 -> 14 | J15: =J14/3 -> 77.5
H17: 집계일자: | I17: 2026.08.07.
H18: 담 당 자: | I18: 조강원

Sheet 점수집계표(주식회사 드림로드커뮤니케이션즈)
B2: 제안평가 점수 집계표
B4: 제안업체명 | D4: 주식회사 드림로드커뮤니케이션즈
B6: 순번 | C6: 평가위원 | D6: 평가점수
D7: 정량평가 (10점) | E7: 정성평가 (70점)
D8: 경영상태(10) | E8: 상품구성 (15) | F8: 운영역량 (20) | G8: 전용시스템 구축·운영 (10) | H8: 개인정보 보호방안(10) | I8: 사후관리 (15) | J8: 합계
B9: 1 | C9: A | D9: 9 | E9: 15 | F9: 20 | G9: 10 | H9: 10 | I9: 15 | J9: =SUM(D9:I9) -> 79 | L9: 최고
B10: 2 | C10: B | D10: 9 | E10: 15 | F10: 17 | G10: 8 | H10: 10 | I10: 12 | J10: =SUM(D10:I10) -> 71 | L10: 최저
B11: 3 | C11: C | D11: 9 | E11: 15 | F11: 20 | G11: 10 | H11: 10 | I11: 12 | J11: =SUM(D11:I11) -> 76
B12: 4 | C12: D | D12: 9 | E12: 15 | F12: 17 | G12: 10 | H12: 10 | I12: 15 | J12: =SUM(D12:I12) -> 76
B13: 5 | C13: E | D13: 9 | E13: 15 | F13: 20 | G13: 10 | H13: 10 | I13: 15 | J13: =SUM(D13:I13) -> 79
B14: 총계 | D14: =SUM(D11:D13) -> 27 | E14: =SUM(E11:E13) -> 45 | F14: =SUM(F11:F13) -> 57 | G14: =SUM(G11:G13) -> 30 | H14: =SUM(H11:H13) -> 30 | I14: =SUM(I11:I13) -> 42 | J14: =SUM(J11:J13) -> 231
B15: 평균점수 | D15: =D14/3 -> 9 | E15: =E14/3 -> 15 | F15: =F14/3 -> 19 | G15: =G14/3 -> 10 | H15: =H14/3 -> 10 | I15: =I14/3 -> 14 | J15: =J14/3 -> 77
H17: 집계일자: | I17: 2026.08.07.
H18: 담 당 자: | I18: 조강원

Sheet 점수집계표(대박컴퍼니)
B2: 제안평가 점수 집계표
B4: 제안업체명 | D4: 대박컴퍼니
B6: 순번 | C6: 평가위원 | D6: 평가점수
D7: 정량평가 (10점) | E7: 정성평가 (70점)
D8: 경영상태(10) | E8: 상품구성 (15) | F8: 운영역량 (20) | G8: 전용시스템 구축·운영 (10) | H8: 개인정보 보호방안(10) | I8: 사후관리 (15) | J8: 합계
B9: 1 | C9: A | D9: 9.5 | E9: 6 | F9: 14 | G9: 4 | H9: 6 | I9: 9 | J9: =SUM(D9:I9) -> 48.5 | L9: 최저
B10: 2 | C10: B | D10: 9.5 | E10: 9 | F10: 14 | G10: 6 | H10: 8 | I10: 9 | J10: =SUM(D10:I10) -> 55.5 | L10: 최고
B11: 3 | C11: C | D11: 9.5 | E11: 9 | F11: 14 | G11: 6 | H11: 6 | I11: 9 | J11: =SUM(D11:I11) -> 53.5
B12: 4 | C12: D | D12: 9.5 | E12: 9 | F12: 14 | G12: 6 | H12: 8 | I12: 9 | J12: =SUM(D12:I12) -> 55.5
B13: 5 | C13: E | D13: 9.5 | E13: 9 | F13: 14 | G13: 6 | H13: 6 | I13: 9 | J13: =SUM(D13:I13) -> 53.5
B14: 총계 | D14: =SUM(D11:D13) -> 28.5 | E14: =SUM(E11:E13) -> 27 | F14: =SUM(F11:F13) -> 42 | G14: =SUM(G11:G13) -> 18 | H14: =SUM(H11:H13) -> 20 | I14: =SUM(I11:I13) -> 27 | J14: =SUM(J11:J13) -> 162.5
B15: 평균점수 | D15: =D14/3 -> 9.5 | E15: =E14/3 -> 9 | F15: =F14/3 -> 14 | G15: =G14/3 -> 6 | H15: =H14/3 -> 6.6666667 | I15: =I14/3 -> 9 | J15: =J14/3 -> 54.166667
H17: 집계일자: | I17: 2026.08.07.
H18: 담 당 자: | I18: 조강원
