Workbook

Sheet 제안서 평가 총괄표
A1: 제안서 평가 총괄표
A2: 사업명 | C2: 「보조공학센터 기능 개편 및 확대 방안 연구」 용역
A4: 연번 | B4: 제안업체 | C4: 평가점수 | J4: 총계 | K4: 기술 평가 점수 (80점) | L4: 적격여부
C5: 평가위원1 | D5: 평가위원2 | E5: 평가위원3 | F5: 평가위원4 | G5: 평가위원5 | H5: 평가위원6 | I5: 평가위원7
A6: 1 | B6: 나사렛대학교 산학협력단 | C6: ='1-1. 나사렛대학교산학협력단 집계표'!C6 -> 71.4 | D6: ='1-1. 나사렛대학교산학협력단 집계표'!C7 -> 71.4 | E6: ='1-1. 나사렛대학교산학협력단 집계표'!C8 -> 72.4 | F6: ='1-1. 나사렛대학교산학협력단 집계표'!C9 -> 69.4 | G6: ='1-1. 나사렛대학교산학협력단 집계표'!C10 -> 72.4 | H6: ='1-1. 나사렛대학교산학협력단 집계표'!C11 -> 74.4 | I6: ='1-1. 나사렛대학교산학협력단 집계표'!C12 -> 72.4 | J6: =SUM(C6:I6) -> 503.8 | K6: =ROUND((SUM(C6:I6)-MAX(C6:I6)-MIN(C6:I6))/((COUNT(C6:I6)-2)),4) -> 72 | L6: 적격
A7: 2 | B7: 자치경영컨설팅 주식회사 | C7: ='2-1. 자치경영컨설팅주식회사 집계표'!C6 -> 66.6 | D7: ='2-1. 자치경영컨설팅주식회사 집계표'!C7 -> 54.6 | E7: ='2-1. 자치경영컨설팅주식회사 집계표'!C8 -> 61.6 | F7: ='2-1. 자치경영컨설팅주식회사 집계표'!C9 -> 36.6 | G7: ='2-1. 자치경영컨설팅주식회사 집계표'!C10 -> 56.6 | H7: ='2-1. 자치경영컨설팅주식회사 집계표'!C11 -> 68.6 | I7: ='2-1. 자치경영컨설팅주식회사 집계표'!C12 -> 47.6 | J7: =SUM(C7:I7) -> 392.2 | K7: =ROUND((SUM(C7:I7)-MAX(C7:I7)-MIN(C7:I7))/((COUNT(C7:I7)-2)),4) -> 57.4 | L7: 부적격
A8: 3 | B8: 주식회사 지투엠파트너스 | C8: ='3-1. 주식회사 지투엠파트너스 집계표'!C6 -> 69 | D8: ='3-1. 주식회사 지투엠파트너스 집계표'!C7 -> 68 | E8: ='3-1. 주식회사 지투엠파트너스 집계표'!C8 -> 67 | F8: ='3-1. 주식회사 지투엠파트너스 집계표'!C9 -> 47 | G8: ='3-1. 주식회사 지투엠파트너스 집계표'!C10 -> 67 | H8: ='3-1. 주식회사 지투엠파트너스 집계표'!C11 -> 73 | I8: ='3-1. 주식회사 지투엠파트너스 집계표'!C12 -> 68 | J8: =SUM(C8:I8) -> 459 | K8: =ROUND((SUM(C8:I8)-MAX(C8:I8)-MIN(C8:I8))/((COUNT(C8:I8)-2)),4) -> 67.8 | L8: 부적격
A10: ※ 최저·최저점으로 산정 시 산술평균값 산출 시 제외

Sheet 1-1. 나사렛대학교산학협력단 집계표
A1: 제안서 평가 집계표
A3: 제안사명 | C3: 나사렛대학교산학협력단
A5: 연번 | B5: 평가위원 | C5: 점수 | D5: 비고
A6: 1 | B6: 평가위원1 | C6: ='1-2. 나사렛대학교산학협력단 위원별 평가점수'!C8 -> 71.4
A7: 2 | B7: 평가위원2 | C7: ='1-2. 나사렛대학교산학협력단 위원별 평가점수'!C9 -> 71.4
A8: 3 | B8: 평가위원3 | C8: ='1-2. 나사렛대학교산학협력단 위원별 평가점수'!C10 -> 72.4
A9: 4 | B9: 평가위원4 | C9: ='1-2. 나사렛대학교산학협력단 위원별 평가점수'!C11 -> 69.4 | D9: 최저
A10: 5 | B10: 평가위원5 | C10: ='1-2. 나사렛대학교산학협력단 위원별 평가점수'!C12 -> 72.4
A11: 6 | B11: 평가위원6 | C11: ='1-2. 나사렛대학교산학협력단 위원별 평가점수'!C13 -> 74.4 | D11: 최고
A12: 7 | B12: 평가위원7 | C12: ='1-2. 나사렛대학교산학협력단 위원별 평가점수'!C14 -> 72.4
A13: 총 계 (최고, 최저점 제외) | C13: =SUM(C6:C12) -> 503.8
A14: 평 점 | C14: =ROUND((SUM(C6:C12)-MAX(C6:C12)-MIN(C6:C12))/((COUNT(C6:C12)-2)),4) -> 72 | D14: 적격
A15: * 평가위원의 평가점수 중 최저와 최고점을 제외(최저 또는 최고점수가 2개 이상일 때에는 이중 하나만 제외) 한 후 나머지 평가점수를 산술평균하여 최종 평가점수 부여(소수점 5째자리에서 반올림)

Sheet 1-2. 나사렛대학교산학협력단 위원별 평가점수
A1: 위원별 평가점수
G2: 평가일자: 2026. 4. 30.(목)
A3: 제안업체명 | C3: 나사렛대학교산학협력단
A5: 순번 | B5: 평가위원 | C5: 기술능력평가(80점)
C6: 총점 | D6: 사업수행 계획 | E6: 지식 및 기술능력 | F6: 인력 및 조직관리 | G6: 제안사의 역량 | H6: 지원 및 사후관리 | I6: 재무구조 및 경영상태
C7: 80점 | D7: 20점 | E7: 20점 | F7: 10점 | G7: 10점 | H7: 10점 | I7: 10점
A8: 1 | B8: 평가위원1 | C8: =SUM(D8:I8) -> 71.4 | D8: 19 | E8: 18 | F8: 9 | G8: 8 | H8: 9 | I8: 8.4
A9: 2 | B9: 평가위원2 | C9: =SUM(D9:I9) -> 71.4 | D9: 19 | E9: 18 | F9: 8 | G9: 9 | H9: 9 | I9: 8.4
A10: 3 | B10: 평가위원3 | C10: =SUM(D10:I10) -> 72.4 | D10: 16 | E10: 18 | F10: 10 | G10: 10 | H10: 10 | I10: 8.4
A11: 4 | B11: 평가위원4 | C11: =SUM(D11:I11) -> 69.4 | D11: 17 | E11: 17 | F11: 9 | G11: 9 | H11: 9 | I11: 8.4
A12: 5 | B12: 평가위원5 | C12: =SUM(D12:I12) -> 72.4 | D12: 19 | E12: 18 | F12: 9 | G12: 9 | H12: 9 | I12: 8.4
A13: 6 | B13: 평가위원6 | C13: =SUM(D13:I13) -> 74.4 | D13: 17 | E13: 17 | F13: 16 | G13: 8 | H13: 8 | I13: 8.4
A14: 7 | B14: 평가위원7 | C14: =SUM(D14:I14) -> 72.4 | D14: 19 | E14: 18 | F14: 9 | G14: 9 | H14: 9 | I14: 8.4

Sheet 2-1. 자치경영컨설팅주식회사 집계표
A1: 제안서 평가 집계표
A3: 제안사명 | C3: 자치경영컨설팅주식회사
A5: 연번 | B5: 평가위원 | C5: 점수 | D5: 비고
A6: 1 | B6: 평가위원1 | C6: ='2-2. 자치경영컨설팅주식회사 위원별 평가점수'!C8 -> 66.6
A7: 2 | B7: 평가위원2 | C7: ='2-2. 자치경영컨설팅주식회사 위원별 평가점수'!C9 -> 54.6
A8: 3 | B8: 평가위원3 | C8: ='2-2. 자치경영컨설팅주식회사 위원별 평가점수'!C10 -> 61.6
A9: 4 | B9: 평가위원4 | C9: ='2-2. 자치경영컨설팅주식회사 위원별 평가점수'!C11 -> 36.6 | D9: 최저
A10: 5 | B10: 평가위원5 | C10: ='2-2. 자치경영컨설팅주식회사 위원별 평가점수'!C12 -> 56.6
A11: 6 | B11: 평가위원6 | C11: ='2-2. 자치경영컨설팅주식회사 위원별 평가점수'!C13 -> 68.6 | D11: 최고
A12: 7 | B12: 평가위원7 | C12: ='2-2. 자치경영컨설팅주식회사 위원별 평가점수'!C14 -> 47.6
A13: 총 계 (최고, 최저점 제외) | C13: =SUM(C6:C12) -> 392.2
A14: 평 점 | C14: =ROUND((SUM(C6:C12)-MAX(C6:C12)-MIN(C6:C12))/((COUNT(C6:C12)-2)),4) -> 57.4 | D14: 적격
A15: * 평가위원의 평가점수 중 최저와 최고점을 제외(최저 또는 최고점수가 2개 이상일 때에는 이중 하나만 제외) 한 후 나머지 평가점수를 산술평균하여 최종 평가점수 부여(소수점 5째자리에서 반올림)

Sheet 2-2. 자치경영컨설팅주식회사 위원별 평가점수
A1: 위원별 평가점수
G2: 평가일자: 2026. 4. 30.(목)
A3: 제안업체명 | C3: 자치경영컨설팅주식회사
A5: 순번 | B5: 평가위원 | C5: 기술능력평가(80점)
C6: 총점 | D6: 사업수행 계획 | E6: 지식 및 기술능력 | F6: 인력 및 조직관리 | G6: 제안사의 역량 | H6: 지원 및 사후관리 | I6: 재무구조 및 경영상태
C7: 80점 | D7: 20점 | E7: 20점 | F7: 10점 | G7: 10점 | H7: 10점 | I7: 10점
A8: 1 | B8: 평가위원1 | C8: =SUM(D8:I8) -> 66.6 | D8: 18 | E8: 18 | F8: 7 | G8: 8 | H8: 8 | I8: 7.6
A9: 2 | B9: 평가위원2 | C9: =SUM(D9:I9) -> 54.6 | D9: 15 | E9: 12 | F9: 6 | G9: 5 | H9: 9 | I9: 7.6
A10: 3 | B10: 평가위원3 | C10: =SUM(D10:I10) -> 61.6 | D10: 16 | E10: 18 | F10: 9 | G10: 6 | H10: 5 | I10: 7.6
A11: 4 | B11: 평가위원4 | C11: =SUM(D11:I11) -> 36.6 | D11: 8 | E11: 8 | F11: 5 | G11: 4 | H11: 4 | I11: 7.6
A12: 5 | B12: 평가위원5 | C12: =SUM(D12:I12) -> 56.6 | D12: 16 | E12: 16 | F12: 9 | G12: 3 | H12: 5 | I12: 7.6
A13: 6 | B13: 평가위원6 | C13: =SUM(D13:I13) -> 68.6 | D13: 16 | E13: 16 | F13: 15 | G13: 7 | H13: 7 | I13: 7.6
A14: 7 | B14: 평가위원7 | C14: =SUM(D14:I14) -> 47.6 | D14: 12 | E14: 8 | F14: 8 | G14: 6 | H14: 6 | I14: 7.6

Sheet 3-1. 주식회사 지투엠파트너스 집계표
A1: 제안서 평가 집계표
A3: 제안사명 | C3: 주식회사 지투엠파트너스
A5: 연번 | B5: 평가위원 | C5: 점수 | D5: 비고
A6: 1 | B6: 평가위원1 | C6: ='3-2. 주식회사 지투엠파트너스 위원별 평가점수'!C8 -> 69
A7: 2 | B7: 평가위원2 | C7: ='3-2. 주식회사 지투엠파트너스 위원별 평가점수'!C9 -> 68
A8: 3 | B8: 평가위원3 | C8: ='3-2. 주식회사 지투엠파트너스 위원별 평가점수'!C10 -> 67
A9: 4 | B9: 평가위원4 | C9: ='3-2. 주식회사 지투엠파트너스 위원별 평가점수'!C11 -> 47 | D9: 최저
A10: 5 | B10: 평가위원5 | C10: ='3-2. 주식회사 지투엠파트너스 위원별 평가점수'!C12 -> 67
A11: 6 | B11: 평가위원6 | C11: ='3-2. 주식회사 지투엠파트너스 위원별 평가점수'!C13 -> 73 | D11: 최고
A12: 7 | B12: 평가위원7 | C12: ='3-2. 주식회사 지투엠파트너스 위원별 평가점수'!C14 -> 68
A13: 총 계 (최고, 최저점 제외) | C13: =SUM(C6:C12) -> 459
A14: 평 점 | C14: =ROUND((SUM(C6:C12)-MAX(C6:C12)-MIN(C6:C12))/((COUNT(C6:C12)-2)),4) -> 67.8 | D14: 적격
A15: * 평가위원의 평가점수 중 최저와 최고점을 제외(최저 또는 최고점수가 2개 이상일 때에는 이중 하나만 제외) 한 후 나머지 평가점수를 산술평균하여 최종 평가점수 부여(소수점 5째자리에서 반올림)

Sheet 3-2. 주식회사 지투엠파트너스 위원별 평가점수
A1: 위원별 평가점수
G2: 평가일자: 2026. 4. 30.(목)
A3: 제안업체명 | C3: 주식회사 지투엠파트너스
A5: 순번 | B5: 평가위원 | C5: 기술능력평가(80점)
C6: 총점 | D6: 사업수행 계획 | E6: 지식 및 기술능력 | F6: 인력 및 조직관리 | G6: 제안사의 역량 | H6: 지원 및 사후관리 | I6: 재무구조 및 경영상태
C7: 80점 | D7: 20점 | E7: 20점 | F7: 10점 | G7: 10점 | H7: 10점 | I7: 10점
A8: 1 | B8: 평가위원1 | C8: =SUM(D8:I8) -> 69 | D8: 18 | E8: 18 | F8: 9 | G8: 8 | H8: 8 | I8: 8
A9: 2 | B9: 평가위원2 | C9: =SUM(D9:I9) -> 68 | D9: 16 | E9: 18 | F9: 9 | G9: 9 | H9: 8 | I9: 8
A10: 3 | B10: 평가위원3 | C10: =SUM(D10:I10) -> 67 | D10: 16 | E10: 17 | F10: 10 | G10: 8 | H10: 8 | I10: 8
A11: 4 | B11: 평가위원4 | C11: =SUM(D11:I11) -> 47 | D11: 11 | E11: 11 | F11: 7 | G11: 5 | H11: 5 | I11: 8
A12: 5 | B12: 평가위원5 | C12: =SUM(D12:I12) -> 67 | D12: 16 | E12: 16 | F12: 12 | G12: 7 | H12: 8 | I12: 8
A13: 6 | B13: 평가위원6 | C13: =SUM(D13:I13) -> 73 | D13: 17 | E13: 16 | F13: 16 | G13: 8 | H13: 8 | I13: 8
A14: 7 | B14: 평가위원7 | C14: =SUM(D14:I14) -> 68 | D14: 17 | E14: 19 | F14: 7 | G14: 8 | H14: 9 | I14: 8
