Workbook

Sheet 제안서총괄표
A1: 제안서 평가 총괄표
A2: 사업명 | C2: 장애인직업능력평가사 2급 자격검정 위탁 운영 용역 제안서 평가
H3: 평가일자 : 2026.08.27
A4: 순번 | B4: 업체 | C4: 평가점수 | I4: 제안서 평가점수
C5: 사업수행 계획 | D5: 지식 및 기술능력 | E5: 제안기관의 역량 | F5: 인력 및 조직관리 | G5: 지원, 사후관리 | H5: 신용평가 등급 | I5: 80점 만점 기준
A6: 1 | B6: 지앤디코리아 | C6: ='제안서집계표(지앤디코리아)'!D12 -> 11 | D6: ='제안서집계표(지앤디코리아)'!E12 -> 12 | E6: ='제안서집계표(지앤디코리아)'!F12 -> 11.333333 | F6: ='제안서집계표(지앤디코리아)'!G12 -> 7 | G6: ='제안서집계표(지앤디코리아)'!H12 -> 7 | H6: ='제안서집계표(지앤디코리아)'!I12 -> 3.5 | I6: ='제안서집계표(지앤디코리아)'!C12 -> 51.833333
A7: 2 | B7: 트리피컨설팅 | C7: ='제안서집계표(트리피컨설팅)'!D12 -> 19 | D7: ='제안서집계표(트리피컨설팅)'!E12 -> 18 | E7: ='제안서집계표(트리피컨설팅)'!F12 -> 14 | F7: ='제안서집계표(트리피컨설팅)'!G12 -> 9 | G7: ='제안서집계표(트리피컨설팅)'!H12 -> 8.3333333 | H7: ='제안서집계표(트리피컨설팅)'!I12 -> 5 | I7: ='제안서집계표(트리피컨설팅)'!C12 -> 73.333333
A8: 3 | B8: 플립온코리아 | C8: ='제안서집계표(플립온코리아)'!D12 -> 19.333333 | D8: ='제안서집계표(플립온코리아)'!E12 -> 19.666667 | E8: ='제안서집계표(플립온코리아)'!F12 -> 14 | F8: ='제안서집계표(플립온코리아)'!G12 -> 9.3333333 | G8: ='제안서집계표(플립온코리아)'!H12 -> 9.6666667 | H8: ='제안서집계표(플립온코리아)'!I12 -> 4.75 | I8: ='제안서집계표(플립온코리아)'!C12 -> 76.75

Sheet 제안서집계표(지앤디코리아)
A1: 제안서 평가 집계표
A2: 제안업체명 | C2: 지앤디코리아
G3: =제안서총괄표!H3 -> 평가일자 : 2026.08.27
A4: 획득 점수 순서 | B4: 심사위원 | C4: 평가점수
C5: 합계 | D5: 사업수행 계획 | E5: 지식 및 기술능력 | F5: 제안기관의 역량 | G5: 인력 및 조직관리 | H5: 지원, 사후관리 | I5: 신용평가 등급 | K5: 순위 | L5: 구분 | M5: 합계 | N5: 사업수행 계획 | O5: 지식 및 기술능력 | P5: 제안기관의 역량 | Q5: 인력 및 조직관리 | R5: 지원, 사후관리 | S5: 신용평가 등급
A6: 1 | B6: =VLOOKUP(A6,$K$6:$S$10,2,FALSE) -> 위원2 | C6: =VLOOKUP(A6,$K$6:$S$10,3,FALSE) -> 65.5 | D6: =VLOOKUP(A6,$K$6:$S$10,4,FALSE) -> 18 | E6: =VLOOKUP(A6,$K$6:$S$10,5,FALSE) -> 15 | F6: =VLOOKUP(A6,$K$6:$S$10,6,FALSE) -> 12 | G6: =VLOOKUP(A6,$K$6:$S$10,7,FALSE) -> 8 | H6: =VLOOKUP(A6,$K$6:$S$10,8,FALSE) -> 9 | I6: =VLOOKUP(A6,$K$6:$S$10,9,FALSE) -> 3.5 | K6: 3 | L6: =위원5!F3 -> 위원5 | M6: =위원5!D12 -> 51.5 | N6: =위원5!$D6 -> 11 | O6: =위원5!$D7 -> 8 | P6: =위원5!$D8 -> 13 | Q6: =위원5!$D9 -> 8 | R6: =위원5!$D10 -> 8 | S6: =위원5!$D11 -> 3.5
A7: 2 | B7: =VLOOKUP(A7,$K$6:$S$10,2,FALSE) -> 위원1 | C7: =VLOOKUP(A7,$K$6:$S$10,3,FALSE) -> 55.5 | D7: =VLOOKUP(A7,$K$6:$S$10,4,FALSE) -> 10 | E7: =VLOOKUP(A7,$K$6:$S$10,5,FALSE) -> 16 | F7: =VLOOKUP(A7,$K$6:$S$10,6,FALSE) -> 12 | G7: =VLOOKUP(A7,$K$6:$S$10,7,FALSE) -> 7 | H7: =VLOOKUP(A7,$K$6:$S$10,8,FALSE) -> 7 | I7: =VLOOKUP(A7,$K$6:$S$10,9,FALSE) -> 3.5 | K7: 2 | L7: =위원1!F3 -> 위원1 | M7: =위원1!D12 -> 55.5 | N7: =위원1!$D6 -> 10 | O7: =위원1!$D7 -> 16 | P7: =위원1!$D8 -> 12 | Q7: =위원1!$D9 -> 7 | R7: =위원1!$D10 -> 7 | S7: =위원1!$D11 -> 3.5
A8: 3 | B8: =VLOOKUP(A8,$K$6:$S$10,2,FALSE) -> 위원5 | C8: =VLOOKUP(A8,$K$6:$S$10,3,FALSE) -> 51.5 | D8: =VLOOKUP(A8,$K$6:$S$10,4,FALSE) -> 11 | E8: =VLOOKUP(A8,$K$6:$S$10,5,FALSE) -> 8 | F8: =VLOOKUP(A8,$K$6:$S$10,6,FALSE) -> 13 | G8: =VLOOKUP(A8,$K$6:$S$10,7,FALSE) -> 8 | H8: =VLOOKUP(A8,$K$6:$S$10,8,FALSE) -> 8 | I8: =VLOOKUP(A8,$K$6:$S$10,9,FALSE) -> 3.5 | K8: 1 | L8: =위원2!F3 -> 위원2 | M8: =위원2!D12 -> 65.5 | N8: =위원2!$D6 -> 18 | O8: =위원2!$D7 -> 15 | P8: =위원2!$D8 -> 12 | Q8: =위원2!$D9 -> 8 | R8: =위원2!$D10 -> 9 | S8: =위원2!$D11 -> 3.5
A9: 4 | B9: =VLOOKUP(A9,$K$6:$S$10,2,FALSE) -> 위원3 | C9: =VLOOKUP(A9,$K$6:$S$10,3,FALSE) -> 48.5 | D9: =VLOOKUP(A9,$K$6:$S$10,4,FALSE) -> 12 | E9: =VLOOKUP(A9,$K$6:$S$10,5,FALSE) -> 12 | F9: =VLOOKUP(A9,$K$6:$S$10,6,FALSE) -> 9 | G9: =VLOOKUP(A9,$K$6:$S$10,7,FALSE) -> 6 | H9: =VLOOKUP(A9,$K$6:$S$10,8,FALSE) -> 6 | I9: =VLOOKUP(A9,$K$6:$S$10,9,FALSE) -> 3.5 | K9: 4 | L9: =위원3!F3 -> 위원3 | M9: =위원3!D12 -> 48.5 | N9: =위원3!$D6 -> 12 | O9: =위원3!$D7 -> 12 | P9: =위원3!$D8 -> 9 | Q9: =위원3!$D9 -> 6 | R9: =위원3!$D10 -> 6 | S9: =위원3!$D11 -> 3.5
A10: 5 | B10: =VLOOKUP(A10,$K$6:$S$10,2,FALSE) -> 위원4 | C10: =VLOOKUP(A10,$K$6:$S$10,3,FALSE) -> 47.5 | D10: =VLOOKUP(A10,$K$6:$S$10,4,FALSE) -> 8 | E10: =VLOOKUP(A10,$K$6:$S$10,5,FALSE) -> 16 | F10: =VLOOKUP(A10,$K$6:$S$10,6,FALSE) -> 9 | G10: =VLOOKUP(A10,$K$6:$S$10,7,FALSE) -> 5 | H10: =VLOOKUP(A10,$K$6:$S$10,8,FALSE) -> 6 | I10: =VLOOKUP(A10,$K$6:$S$10,9,FALSE) -> 3.5 | K10: 5 | L10: =위원4!F3 -> 위원4 | M10: =위원4!D12 -> 47.5 | N10: =위원4!$D6 -> 8 | O10: =위원4!$D7 -> 16 | P10: =위원4!$D8 -> 9 | Q10: =위원4!$D9 -> 5 | R10: =위원4!$D10 -> 6 | S10: =위원4!$D11 -> 3.5
A11: 총 계 (2~5순위) | C11: =SUM(C7:C9) -> 155.5 | D11: =SUM(D7:D9) -> 33 | E11: =SUM(E7:E9) -> 36 | F11: =SUM(F7:F9) -> 34 | G11: =SUM(G7:G9) -> 21 | H11: =SUM(H7:H9) -> 21 | I11: =SUM(I7:I9) -> 10.5
A12: 평 점 (총계÷3) | C12: =AVERAGE(C7:C9) -> 51.833333 | D12: =AVERAGE(D7:D9) -> 11 | E12: =AVERAGE(E7:E9) -> 12 | F12: =AVERAGE(F7:F9) -> 11.333333 | G12: =AVERAGE(G7:G9) -> 7 | H12: =AVERAGE(H7:H9) -> 7 | I12: =AVERAGE(I7:I9) -> 3.5
A13: ※ 합계 점수에 따라 점수 순위 1위(최고점)와 5위(최저점)을 제외하고 2～4위 순위점수의 총계와 평점을 계산함

Sheet 제안서집계표(트리피컨설팅)
A1: 제안서 평가 집계표
A2: 제안업체명 | C2: 트리피컨설팅
G3: =제안서총괄표!H3 -> 평가일자 : 2026.08.27
A4: 획득 점수 순서 | B4: 심사위원 | C4: 평가점수
C5: 합계 | D5: 사업수행 계획 | E5: 지식 및 기술능력 | F5: 제안기관의 역량 | G5: 인력 및 조직관리 | H5: 지원, 사후관리 | I5: 신용평가 등급 | K5: 순위 | L5: 구분 | M5: 합계 | N5: 사업수행 계획 | O5: 지식 및 기술능력 | P5: 제안기관의 역량 | Q5: 인력 및 조직관리 | R5: 지원, 사후관리 | S5: 신용평가 등급
A6: 1 | B6: =VLOOKUP(A6,$K$6:$S$10,2,FALSE) -> 위원3 | C6: =VLOOKUP(A6,$K$6:$S$10,3,FALSE) -> 78 | D6: =VLOOKUP(A6,$K$6:$S$10,4,FALSE) -> 19 | E6: =VLOOKUP(A6,$K$6:$S$10,5,FALSE) -> 20 | F6: =VLOOKUP(A6,$K$6:$S$10,6,FALSE) -> 14 | G6: =VLOOKUP(A6,$K$6:$S$10,7,FALSE) -> 10 | H6: =VLOOKUP(A6,$K$6:$S$10,8,FALSE) -> 10 | I6: =VLOOKUP(A6,$K$6:$S$10,9,FALSE) -> 5 | K6: =_xlfn.RANK.AVG(M6,$M$6:$M$10) -> 5 | L6: =위원5!F3 -> 위원5 | M6: =위원5!E12 -> 67 | N6: =위원5!$E6 -> 15 | O6: =위원5!$E7 -> 15 | P6: =위원5!$E8 -> 15 | Q6: =위원5!$E9 -> 9 | R6: =위원5!$E10 -> 8 | S6: =위원5!$E11 -> 5
A7: 2 | B7: =VLOOKUP(A7,$K$6:$S$10,2,FALSE) -> 위원2 | C7: =VLOOKUP(A7,$K$6:$S$10,3,FALSE) -> 77 | D7: =VLOOKUP(A7,$K$6:$S$10,4,FALSE) -> 19 | E7: =VLOOKUP(A7,$K$6:$S$10,5,FALSE) -> 19 | F7: =VLOOKUP(A7,$K$6:$S$10,6,FALSE) -> 15 | G7: =VLOOKUP(A7,$K$6:$S$10,7,FALSE) -> 9 | H7: =VLOOKUP(A7,$K$6:$S$10,8,FALSE) -> 10 | I7: =VLOOKUP(A7,$K$6:$S$10,9,FALSE) -> 5 | K7: =_xlfn.RANK.AVG(M7,$M$6:$M$10) -> 3 | L7: =위원1!F3 -> 위원1 | M7: =위원1!E12 -> 75 | N7: =위원1!$E6 -> 19 | O7: =위원1!$E7 -> 19 | P7: =위원1!$E8 -> 14 | Q7: =위원1!$E9 -> 9 | R7: =위원1!$E10 -> 9 | S7: =위원1!$E11 -> 5
A8: 3 | B8: =VLOOKUP(A8,$K$6:$S$10,2,FALSE) -> 위원1 | C8: =VLOOKUP(A8,$K$6:$S$10,3,FALSE) -> 75 | D8: =VLOOKUP(A8,$K$6:$S$10,4,FALSE) -> 19 | E8: =VLOOKUP(A8,$K$6:$S$10,5,FALSE) -> 19 | F8: =VLOOKUP(A8,$K$6:$S$10,6,FALSE) -> 14 | G8: =VLOOKUP(A8,$K$6:$S$10,7,FALSE) -> 9 | H8: =VLOOKUP(A8,$K$6:$S$10,8,FALSE) -> 9 | I8: =VLOOKUP(A8,$K$6:$S$10,9,FALSE) -> 5 | K8: =_xlfn.RANK.AVG(M8,$M$6:$M$10) -> 2 | L8: =위원2!F3 -> 위원2 | M8: =위원2!E12 -> 77 | N8: =위원2!$E6 -> 19 | O8: =위원2!$E7 -> 19 | P8: =위원2!$E8 -> 15 | Q8: =위원2!$E9 -> 9 | R8: =위원2!$E10 -> 10 | S8: =위원2!$E11 -> 5
A9: 4 | B9: =VLOOKUP(A9,$K$6:$S$10,2,FALSE) -> 위원4 | C9: =VLOOKUP(A9,$K$6:$S$10,3,FALSE) -> 68 | D9: =VLOOKUP(A9,$K$6:$S$10,4,FALSE) -> 19 | E9: =VLOOKUP(A9,$K$6:$S$10,5,FALSE) -> 16 | F9: =VLOOKUP(A9,$K$6:$S$10,6,FALSE) -> 13 | G9: =VLOOKUP(A9,$K$6:$S$10,7,FALSE) -> 9 | H9: =VLOOKUP(A9,$K$6:$S$10,8,FALSE) -> 6 | I9: =VLOOKUP(A9,$K$6:$S$10,9,FALSE) -> 5 | K9: =_xlfn.RANK.AVG(M9,$M$6:$M$10) -> 1 | L9: =위원3!F3 -> 위원3 | M9: =위원3!E12 -> 78 | N9: =위원3!$E6 -> 19 | O9: =위원3!$E7 -> 20 | P9: =위원3!$E8 -> 14 | Q9: =위원3!$E9 -> 10 | R9: =위원3!$E10 -> 10 | S9: =위원3!$E11 -> 5
A10: 5 | B10: =VLOOKUP(A10,$K$6:$R$10,2,FALSE) -> 위원5 | C10: =VLOOKUP(A10,$K$6:$S$10,3,FALSE) -> 67 | D10: =VLOOKUP(A10,$K$6:$S$10,4,FALSE) -> 15 | E10: =VLOOKUP(A10,$K$6:$S$10,5,FALSE) -> 15 | F10: =VLOOKUP(A10,$K$6:$S$10,6,FALSE) -> 15 | G10: =VLOOKUP(A10,$K$6:$S$10,7,FALSE) -> 9 | H10: =VLOOKUP(A10,$K$6:$S$10,8,FALSE) -> 8 | I10: =VLOOKUP(A10,$K$6:$S$10,9,FALSE) -> 5 | K10: =_xlfn.RANK.AVG(M10,$M$6:$M$10) -> 4 | L10: =위원4!F3 -> 위원4 | M10: =위원4!E12 -> 68 | N10: =위원4!$E6 -> 19 | O10: =위원4!$E7 -> 16 | P10: =위원4!$E8 -> 13 | Q10: =위원4!$E9 -> 9 | R10: =위원4!$E10 -> 6 | S10: =위원4!$E11 -> 5
A11: 총 계 (2~5순위) | C11: =SUM(C7:C9) -> 220 | D11: =SUM(D7:D9) -> 57 | E11: =SUM(E7:E9) -> 54 | F11: =SUM(F7:F9) -> 42 | G11: =SUM(G7:G9) -> 27 | H11: =SUM(H7:H9) -> 25 | I11: =SUM(I7:I9) -> 15
A12: 평 점 (총계÷3) | C12: =AVERAGE(C7:C9) -> 73.333333 | D12: =AVERAGE(D7:D9) -> 19 | E12: =AVERAGE(E7:E9) -> 18 | F12: =AVERAGE(F7:F9) -> 14 | G12: =AVERAGE(G7:G9) -> 9 | H12: =AVERAGE(H7:H9) -> 8.3333333 | I12: =AVERAGE(I7:I9) -> 5
A13: ※ 합계 점수에 따라 점수 순위 1위(최고점)와 5위(최저점)을 제외하고 2～4위 순위점수의 총계와 평점을 계산함

Sheet 제안서집계표(플립온코리아)
A1: 제안서 평가 집계표
A2: 제안업체명 | C2: 플립온코리아
G3: =제안서총괄표!H3 -> 평가일자 : 2026.08.27
A4: 획득 점수 순서 | B4: 심사위원 | C4: 평가점수
C5: 합계 | D5: 사업수행 계획 | E5: 지식 및 기술능력 | F5: 제안기관의 역량 | G5: 인력 및 조직관리 | H5: 지원, 사후관리 | I5: 신용평가 등급 | K5: 순위 | L5: 구분 | M5: 합계 | N5: 사업수행 계획 | O5: 지식 및 기술능력 | P5: 제안기관의 역량 | Q5: 인력 및 조직관리 | R5: 지원, 사후관리 | S5: 신용평가 등급
A6: 1 | B6: =VLOOKUP($A$6,$K$6:$S$10,2,FALSE) -> 위원2 | C6: =VLOOKUP($A$6,$K$6:$S$10,3,FALSE) -> 78.75 | D6: =VLOOKUP($A$6,$K$6:$S$10,4,FALSE) -> 20 | E6: =VLOOKUP($A$6,$K$6:$S$10,5,FALSE) -> 20 | F6: =VLOOKUP($A$6,$K$6:$S$10,6,FALSE) -> 15 | G6: =VLOOKUP($A$6,$K$6:$S$10,7,FALSE) -> 9 | H6: =VLOOKUP($A$6,$K$6:$S$10,8,FALSE) -> 10 | I6: =VLOOKUP($A$6,$K$6:$S$10,9,FALSE) -> 4.75 | K6: 5 | L6: =위원5!F3 -> 위원5 | M6: =위원5!F12 -> 72.75 | N6: =위원5!$F6 -> 18 | O6: =위원5!$F7 -> 18 | P6: =위원5!$F8 -> 15 | Q6: =위원5!$F9 -> 9 | R6: =위원5!$F10 -> 8 | S6: =위원5!$F11 -> 4.75
A7: 2 | B7: =VLOOKUP($A$7,$K$6:$S$10,2,FALSE) -> 위원3 | C7: =VLOOKUP($A$7,$K$6:$S$10,3,FALSE) -> 78.75 | D7: =VLOOKUP($A$7,$K$6:$S$10,4,FALSE) -> 20 | E7: =VLOOKUP($A$7,$K$6:$S$10,5,FALSE) -> 20 | F7: =VLOOKUP($A$7,$K$6:$S$10,6,FALSE) -> 14 | G7: =VLOOKUP($A$7,$K$6:$S$10,7,FALSE) -> 10 | H7: =VLOOKUP($A$7,$K$6:$S$10,8,FALSE) -> 10 | I7: =VLOOKUP($A$7,$K$6:$S$10,9,FALSE) -> 4.75 | K7: 4 | L7: =위원1!F3 -> 위원1 | M7: =위원1!F12 -> 75.75 | N7: =위원1!$F6 -> 19 | O7: =위원1!$F7 -> 19 | P7: =위원1!$F8 -> 14 | Q7: =위원1!$F9 -> 9 | R7: =위원1!$F10 -> 10 | S7: =위원1!$F11 -> 4.75
A8: 3 | B8: =VLOOKUP($A$8,$K$6:$S$10,2,FALSE) -> 위원4 | C8: =VLOOKUP($A$8,$K$6:$S$10,3,FALSE) -> 75.75 | D8: =VLOOKUP($A$8,$K$6:$S$10,4,FALSE) -> 19 | E8: =VLOOKUP($A$8,$K$6:$S$10,5,FALSE) -> 20 | F8: =VLOOKUP($A$8,$K$6:$S$10,6,FALSE) -> 14 | G8: =VLOOKUP($A$8,$K$6:$S$10,7,FALSE) -> 9 | H8: =VLOOKUP($A$8,$K$6:$S$10,8,FALSE) -> 9 | I8: =VLOOKUP($A$8,$K$6:$S$10,9,FALSE) -> 4.75 | K8: 1 | L8: =위원2!F3 -> 위원2 | M8: =위원2!F12 -> 78.75 | N8: =위원2!$F6 -> 20 | O8: =위원2!$F7 -> 20 | P8: =위원2!$F8 -> 15 | Q8: =위원2!$F9 -> 9 | R8: =위원2!$F10 -> 10 | S8: =위원2!$F11 -> 4.75
A9: 4 | B9: =VLOOKUP($A$9,$K$6:$S$10,2,FALSE) -> 위원1 | C9: =VLOOKUP($A$9,$K$6:$S$10,3,FALSE) -> 75.75 | D9: =VLOOKUP($A$9,$K$6:$S$10,4,FALSE) -> 19 | E9: =VLOOKUP($A$9,$K$6:$S$10,5,FALSE) -> 19 | F9: =VLOOKUP($A$9,$K$6:$S$10,6,FALSE) -> 14 | G9: =VLOOKUP($A$9,$K$6:$S$10,7,FALSE) -> 9 | H9: =VLOOKUP($A$9,$K$6:$S$10,8,FALSE) -> 10 | I9: =VLOOKUP($A$9,$K$6:$S$10,9,FALSE) -> 4.75 | K9: 2 | L9: =위원3!F3 -> 위원3 | M9: =위원3!F12 -> 78.75 | N9: =위원3!$F6 -> 20 | O9: =위원3!$F7 -> 20 | P9: =위원3!$F8 -> 14 | Q9: =위원3!$F9 -> 10 | R9: =위원3!$F10 -> 10 | S9: =위원3!$F11 -> 4.75
A10: 5 | B10: =VLOOKUP($A$10,$K$6:$S$10,2,FALSE) -> 위원5 | C10: =VLOOKUP($A$10,$K$6:$S$10,3,FALSE) -> 72.75 | D10: =VLOOKUP($A$10,$K$6:$S$10,4,FALSE) -> 18 | E10: =VLOOKUP($A$10,$K$6:$S$10,5,FALSE) -> 18 | F10: =VLOOKUP($A$10,$K$6:$S$10,6,FALSE) -> 15 | G10: =VLOOKUP($A$10,$K$6:$S$10,7,FALSE) -> 9 | H10: =VLOOKUP($A$10,$K$6:$S$10,8,FALSE) -> 8 | I10: =VLOOKUP($A$10,$K$6:$S$10,9,FALSE) -> 4.75 | K10: 3 | L10: =위원4!F3 -> 위원4 | M10: =위원4!F12 -> 75.75 | N10: =위원4!$F6 -> 19 | O10: =위원4!$F7 -> 20 | P10: =위원4!$F8 -> 14 | Q10: =위원4!$F9 -> 9 | R10: =위원4!$F10 -> 9 | S10: =위원4!$F11 -> 4.75
A11: 총 계 (2~5순위) | C11: =SUM(C7:C9) -> 230.25 | D11: =SUM(D7:D9) -> 58 | E11: =SUM(E7:E9) -> 59 | F11: =SUM(F7:F9) -> 42 | G11: =SUM(G7:G9) -> 28 | H11: =SUM(H7:H9) -> 29 | I11: =SUM(I7:I9) -> 14.25
A12: 평 점 (총계÷3) | C12: =AVERAGE(C7:C9) -> 76.75 | D12: =AVERAGE(D7:D9) -> 19.333333 | E12: =AVERAGE(E7:E9) -> 19.666667 | F12: =AVERAGE(F7:F9) -> 14 | G12: =AVERAGE(G7:G9) -> 9.3333333 | H12: =AVERAGE(H7:H9) -> 9.6666667 | I12: =AVERAGE(I7:I9) -> 4.75
A13: ※ 합계 점수에 따라 점수 순위 1위(최고점)와 5위(최저점)을 제외하고 2～4위 순위점수의 총계와 평점을 계산함

Sheet 위원1
A1: 위원별 제안서 평가 집계표
A2: 사업명 | B2: =제안서총괄표!C2 -> 장애인직업능력평가사 2급 자격검정 위탁 운영 용역 제안서 평가
A3: 평가일자 | B3: 46261 | C3: 평가위원 | F3: 위원1
A5: 평가항목 | B5: 평가요소 | C5: 배점 | D5: 지앤디코리아 | E5: 트리피컨설팅 | F5: 플립온코리아
A6: 사업수행 계획 | B6: - 사업의 목적 및 내용에 대한 이해도 - 사업 실행계획의 실현가능성, 구체성 - 사업 실행계획의 차별성 및 독창성 | C6: 20 | D6: 10 | E6: 19 | F6: 19
A7: 지식 및 기술능력 | B7: - 수행인력의 전문성 및 업무분장 적정성 - 안정적 교육운영을 위한 준비 방안 - 교육 운영 및 관리 방법의 적합성 - 보유한 강사 인력의 전문성 및 적정성 | C7: 20 | D7: 16 | E7: 19 | F7: 19
A8: 제안기관의 역량 | B8: - 수강생 교육 참여 및 만족도 증대 방안 - 수강생 질의응대 및 민원 해결능력 - 장애 등 수강생 편의성 제고를 위한 노력 | C8: 15 | D8: 12 | E8: 14 | F8: 14
A9: 인력,조직관리 | B9: - 사업운영에 대한 보고체계의 적합성 - 교육시스템 하자발생 시 대처 방안 - 개인정보 관련 보안관리 능력 - 예산 편성 계획의 적절성 | C9: 10 | D9: 7 | E9: 9 | F9: 9
A10: 지원및사후관리 | B10: - 수강현황 등 각종 통계자료 제공 방안 - 만족도 조사 등 결과보고 방안 | C10: 10 | D10: 7 | E10: 9 | F10: 10
A11: 신용평가등급 | B11: - 재정건정성 (신용평가등급에 의한 평가)대처 방안 | C11: 5 | D11: 3.5 | E11: 5 | F11: 4.75
A12: 총계 | C12: =SUM(C6:C11) -> 80 | D12: =SUM(D6:D11) -> 55.5 | E12: =SUM(E6:E11) -> 75 | F12: =SUM(F6:F11) -> 75.75

Sheet 위원2
A1: 위원별 제안서 평가 집계표
A2: 사업명 | B2: =제안서총괄표!C2 -> 장애인직업능력평가사 2급 자격검정 위탁 운영 용역 제안서 평가
A3: 평가일자 | B3: 46261 | C3: 평가위원 | F3: 위원2
A5: 평가항목 | B5: 평가요소 | C5: 배점 | D5: 지앤디코리아 | E5: 트리피컨설팅 | F5: 플립온코리아
A6: 사업수행 계획 | B6: - 사업의 목적 및 내용에 대한 이해도 - 사업 실행계획의 실현가능성, 구체성 - 사업 실행계획의 차별성 및 독창성 | C6: 20 | D6: 18 | E6: 19 | F6: 20
A7: 지식 및 기술능력 | B7: - 수행인력의 전문성 및 업무분장 적정성 - 안정적 교육운영을 위한 준비 방안 - 교육 운영 및 관리 방법의 적합성 - 보유한 강사 인력의 전문성 및 적정성 | C7: 20 | D7: 15 | E7: 19 | F7: 20
A8: 제안기관의 역량 | B8: - 수강생 교육 참여 및 만족도 증대 방안 - 수강생 질의응대 및 민원 해결능력 - 장애 등 수강생 편의성 제고를 위한 노력 | C8: 15 | D8: 12 | E8: 15 | F8: 15
A9: 인력,조직관리 | B9: - 사업운영에 대한 보고체계의 적합성 - 교육시스템 하자발생 시 대처 방안 - 개인정보 관련 보안관리 능력 - 예산 편성 계획의 적절성 | C9: 10 | D9: 8 | E9: 9 | F9: 9
A10: 지원및사후관리 | B10: - 수강현황 등 각종 통계자료 제공 방안 - 만족도 조사 등 결과보고 방안 | C10: 10 | D10: 9 | E10: 10 | F10: 10
A11: 신용평가등급 | B11: - 재정건정성 (신용평가등급에 의한 평가)대처 방안 | C11: 5 | D11: 3.5 | E11: 5 | F11: 4.75
A12: 총계 | C12: =SUM(C6:C11) -> 80 | D12: =SUM(D6:D11) -> 65.5 | E12: =SUM(E6:E11) -> 77 | F12: =SUM(F6:F11) -> 78.75

Sheet 위원3
A1: 위원별 제안서 평가 집계표
A2: 사업명 | B2: =제안서총괄표!C2 -> 장애인직업능력평가사 2급 자격검정 위탁 운영 용역 제안서 평가
A3: 평가일자 | B3: 46261 | C3: 평가위원 | F3: 위원3
A5: 평가항목 | B5: 평가요소 | C5: 배점 | D5: 지앤디코리아 | E5: 트리피컨설팅 | F5: 플립온코리아
A6: 사업수행 계획 | B6: - 사업의 목적 및 내용에 대한 이해도 - 사업 실행계획의 실현가능성, 구체성 - 사업 실행계획의 차별성 및 독창성 | C6: 20 | D6: 12 | E6: 19 | F6: 20
A7: 지식 및 기술능력 | B7: - 수행인력의 전문성 및 업무분장 적정성 - 안정적 교육운영을 위한 준비 방안 - 교육 운영 및 관리 방법의 적합성 - 보유한 강사 인력의 전문성 및 적정성 | C7: 20 | D7: 12 | E7: 20 | F7: 20
A8: 제안기관의 역량 | B8: - 수강생 교육 참여 및 만족도 증대 방안 - 수강생 질의응대 및 민원 해결능력 - 장애 등 수강생 편의성 제고를 위한 노력 | C8: 15 | D8: 9 | E8: 14 | F8: 14
A9: 인력,조직관리 | B9: - 사업운영에 대한 보고체계의 적합성 - 교육시스템 하자발생 시 대처 방안 - 개인정보 관련 보안관리 능력 - 예산 편성 계획의 적절성 | C9: 10 | D9: 6 | E9: 10 | F9: 10
A10: 지원및사후관리 | B10: - 수강현황 등 각종 통계자료 제공 방안 - 만족도 조사 등 결과보고 방안 | C10: 10 | D10: 6 | E10: 10 | F10: 10
A11: 신용평가등급 | B11: - 재정건정성 (신용평가등급에 의한 평가)대처 방안 | C11: 5 | D11: 3.5 | E11: 5 | F11: 4.75
A12: 총계 | C12: =SUM(C6:C11) -> 80 | D12: =SUM(D6:D11) -> 48.5 | E12: =SUM(E6:E11) -> 78 | F12: =SUM(F6:F11) -> 78.75

Sheet 위원4
A1: 위원별 제안서 평가 집계표
A2: 사업명 | B2: =제안서총괄표!C2 -> 장애인직업능력평가사 2급 자격검정 위탁 운영 용역 제안서 평가
A3: 평가일자 | B3: 46261 | C3: 평가위원 | F3: 위원4
A5: 평가항목 | B5: 평가요소 | C5: 배점 | D5: 지앤디코리아 | E5: 트리피컨설팅 | F5: 플립온코리아
A6: 사업수행 계획 | B6: - 사업의 목적 및 내용에 대한 이해도 - 사업 실행계획의 실현가능성, 구체성 - 사업 실행계획의 차별성 및 독창성 | C6: 20 | D6: 8 | E6: 19 | F6: 19
A7: 지식 및 기술능력 | B7: - 수행인력의 전문성 및 업무분장 적정성 - 안정적 교육운영을 위한 준비 방안 - 교육 운영 및 관리 방법의 적합성 - 보유한 강사 인력의 전문성 및 적정성 | C7: 20 | D7: 16 | E7: 16 | F7: 20
A8: 제안기관의 역량 | B8: - 수강생 교육 참여 및 만족도 증대 방안 - 수강생 질의응대 및 민원 해결능력 - 장애 등 수강생 편의성 제고를 위한 노력 | C8: 15 | D8: 9 | E8: 13 | F8: 14
A9: 인력,조직관리 | B9: - 사업운영에 대한 보고체계의 적합성 - 교육시스템 하자발생 시 대처 방안 - 개인정보 관련 보안관리 능력 - 예산 편성 계획의 적절성 | C9: 10 | D9: 5 | E9: 9 | F9: 9
A10: 지원및사후관리 | B10: - 수강현황 등 각종 통계자료 제공 방안 - 만족도 조사 등 결과보고 방안 | C10: 10 | D10: 6 | E10: 6 | F10: 9
A11: 신용평가등급 | B11: - 재정건정성 (신용평가등급에 의한 평가)대처 방안 | C11: 5 | D11: 3.5 | E11: 5 | F11: 4.75
A12: 총계 | C12: =SUM(C6:C11) -> 80 | D12: =SUM(D6:D11) -> 47.5 | E12: =SUM(E6:E11) -> 68 | F12: =SUM(F6:F11) -> 75.75

Sheet 위원5
A1: 위원별 제안서 평가 집계표
A2: 사업명 | B2: =제안서총괄표!C2 -> 장애인직업능력평가사 2급 자격검정 위탁 운영 용역 제안서 평가
A3: 평가일자 | B3: 46261 | C3: 평가위원 | F3: 위원5
A5: 평가항목 | B5: 평가요소 | C5: 배점 | D5: 지앤디코리아 | E5: 트리피컨설팅 | F5: 플립온코리아
A6: 사업수행 계획 | B6: - 사업의 목적 및 내용에 대한 이해도 - 사업 실행계획의 실현가능성, 구체성 - 사업 실행계획의 차별성 및 독창성 | C6: 20 | D6: 11 | E6: 15 | F6: 18
A7: 지식 및 기술능력 | B7: - 수행인력의 전문성 및 업무분장 적정성 - 안정적 교육운영을 위한 준비 방안 - 교육 운영 및 관리 방법의 적합성 - 보유한 강사 인력의 전문성 및 적정성 | C7: 20 | D7: 8 | E7: 15 | F7: 18
A8: 제안기관의 역량 | B8: - 수강생 교육 참여 및 만족도 증대 방안 - 수강생 질의응대 및 민원 해결능력 - 장애 등 수강생 편의성 제고를 위한 노력 | C8: 15 | D8: 13 | E8: 15 | F8: 15
A9: 인력,조직관리 | B9: - 사업운영에 대한 보고체계의 적합성 - 교육시스템 하자발생 시 대처 방안 - 개인정보 관련 보안관리 능력 - 예산 편성 계획의 적절성 | C9: 10 | D9: 8 | E9: 9 | F9: 9
A10: 지원및사후관리 | B10: - 수강현황 등 각종 통계자료 제공 방안 - 만족도 조사 등 결과보고 방안 | C10: 10 | D10: 8 | E10: 8 | F10: 8
A11: 신용평가등급 | B11: - 재정건정성 (신용평가등급에 의한 평가)대처 방안 | C11: 5 | D11: 3.5 | E11: 5 | F11: 4.75
A12: 총계 | C12: =SUM(C6:C11) -> 80 | D12: =SUM(D6:D11) -> 51.5 | E12: =SUM(E6:E11) -> 67 | F12: =SUM(F6:F11) -> 72.75
