Workbook

Sheet 기술능력평가 최종 결과표
B2: 제안서 평가 총괄표
B4: 사업명 | D4: 2026년 한국장애인고용공단 직원 채용 대행 용역
B6: 순번 | C6: 업체명 | D6: 평가 평균 점수 | E6: 기술능력평가(80점) | M6: 협상 적격 여부
E7: 정량 (10점) | F7: 정성(70점)
E8: 신용 평가 등급 (10) | F8: 사업 이해도 (10) | G8: 인력·관리기술(20) | I8: 사업수행계획(30) | L8: 위기 대응 및 사후 관리 (10)
G9: 인력 전문성 (10) | H9: 관리 기술 (10) | I9: 채용 솔루션 (10) | J9: 전형별 운영 (10) | K9: 문항 개발 등 (10)
B10: 1 | C10: 주식회사 휴먼메트릭스 | D10: ='점수집계표(주식회사 휴먼메트릭스)'!L18 -> 68.3 | E10: ='점수집계표(주식회사 휴먼메트릭스)'!D18 -> 9.5 | F10: ='점수집계표(주식회사 휴먼메트릭스)'!E18 -> 8 | G10: ='점수집계표(주식회사 휴먼메트릭스)'!F18 -> 9 | H10: ='점수집계표(주식회사 휴먼메트릭스)'!G18 -> 8 | I10: ='점수집계표(주식회사 휴먼메트릭스)'!H18 -> 8 | J10: ='점수집계표(주식회사 휴먼메트릭스)'!I18 -> 8.5 | K10: ='점수집계표(주식회사 휴먼메트릭스)'!J18 -> 8.5 | L10: ='점수집계표(주식회사 휴먼메트릭스)'!K18 -> 8 | M10: =IF(D10>=68, "적격", "부적격") -> 적격
B11: 2 | C11: 주식회사 인사바른 | D11: ='점수집계표(주식회사 인사바른)'!L18 -> 73.5 | E11: ='점수집계표(주식회사 인사바른)'!D18 -> 9.5 | F11: ='점수집계표(주식회사 인사바른)'!E18 -> 10 | G11: ='점수집계표(주식회사 인사바른)'!F18 -> 9 | H11: ='점수집계표(주식회사 인사바른)'!G18 -> 8 | I11: ='점수집계표(주식회사 인사바른)'!H18 -> 8.5 | J11: ='점수집계표(주식회사 인사바른)'!I18 -> 9.5 | K11: ='점수집계표(주식회사 인사바른)'!J18 -> 9.5 | L11: ='점수집계표(주식회사 인사바른)'!K18 -> 9.5 | M11: =IF(D11>=68, "적격", "부적격") -> 적격
B12: 3 | C12: 클립스하이어 주식회사 | D12: - | E12: - | F12: - | G12: - | H12: - | I12: - | J12: - | K12: - | L12: - | M12: 불참으로 평가대상 제외(부적격)
B13: ※ 제안업체별 기술능력평가 최종 점수는 평가위원의 평가점수 중 최저와 최고점수를 제외(최저 또는 최고점수가 2개 이상일 때에는 이중 하나만 제외) 한 후 나머지 평가점수를 산술평균하여 최종 평가점수를 부여하되, 평가점수가 소수점 이하가 있는 경우에는 소수점 다섯째 자리에서 반올림

Sheet 점수집계표(주식회사 휴먼메트릭스)
B2: 제안서 평가 집계표
H3: 평가일자: | J3: 2026.4.22.
B4: 제안업체명 | D4: 주식회사 휴먼메트릭스
B6: 순번 | C6: 평가위원 | D6: 기술능력평가(80점)
D7: 정량 (10점) | E7: 정성 (70점)
D8: 신용 평가 등급 (10) | E8: 사업 이해도 (10) | F8: 인력관리기술(20) | H8: 사업수행계획(30) | K8: 위기 대응 및 사후 관리(10) | L8: 합계
F9: 인력 전문성(10) | G9: 관리 기술(10) | H9: 채용 솔루션 (10) | I9: 전형별 운영(10) | J9: 문항 개발 등 (10)
B10: 1 | C10: A | D10: 9.5 | E10: 8 | F10: 6 | G10: 8 | H10: 4 | I10: 8 | J10: 6 | K10: 6 | L10: =SUM(D10:K10) -> 55.5 | N10: =RANK(L10,$L$10:$L$16) -> 7
B11: 2 | C11: B | D11: 9.5 | E11: 8 | F11: 10 | G11: 10 | H11: 10 | I11: 8 | J11: 8 | K11: 10 | L11: =SUM(D11:K11) -> 73.5 | N11: =RANK(L11,$L$10:$L$16) -> 1
B12: 3 | C12: C | D12: 9.5 | E12: 8 | F12: 8 | G12: 6 | H12: 6 | I12: 6 | J12: 8 | K12: 6 | L12: =SUM(D12:K12) -> 57.5 | N12: =RANK(L12,$L$10:$L$16) -> 6
B13: 4 | C13: D | D13: 9.5 | E13: 8 | F13: 8 | G13: 8 | H13: 8 | I13: 10 | J13: 8 | K13: 10 | L13: =SUM(D13:K13) -> 69.5 | N13: =RANK(L13,$L$10:$L$16) -> 4
B14: 5 | C14: E | D14: 9.5 | E14: 8 | F14: 10 | G14: 10 | H14: 8 | I14: 8 | J14: 8 | K14: 8 | L14: =SUM(D14:K14) -> 69.5 | N14: =RANK(L14,$L$10:$L$16) -> 4
B15: 6 | C15: F | D15: 9.5 | E15: 8 | F15: 10 | G15: 8 | H15: 10 | I15: 10 | J15: 10 | K15: 8 | L15: =SUM(D15:K15) -> 73.5 | N15: =RANK(L15,$L$10:$L$16) -> 1
B16: 7 | C16: G | D16: 9.5 | E16: 8 | F16: 10 | G16: 8 | H16: 10 | I16: 8 | J16: 8 | K16: 10 | L16: =SUM(D16:K16) -> 71.5 | N16: =RANK(L16,$L$10:$L$16) -> 3
B17: 총계 | D17: =D12+D13+D14+D15 -> 38 | E17: =E12+E13+E14+E15 -> 32 | F17: =F12+F13+F14+F15 -> 36 | G17: =G12+G13+G14+G15 -> 32 | H17: =H12+H13+H14+H15 -> 32 | I17: =I12+I13+I14+I15 -> 34 | J17: =J12+J13+J14+J15 -> 34 | K17: =K12+K13+K14+K15 -> 32 | L17: =SUM(L10:L16)-MAX(L10:L16)-MIN(L10:L16) -> 341.5
B18: 평균점수 | D18: =D17/4 -> 9.5 | E18: =E17/4 -> 8 | F18: =F17/4 -> 9 | G18: =G17/4 -> 8 | H18: =H17/4 -> 8 | I18: =I17/4 -> 8.5 | J18: =J17/4 -> 8.5 | K18: =K17/4 -> 8 | L18: =L17/5 -> 68.3
B19: ※ 제안업체별 기술능력평가 최종 점수는 평가위원의 평가점수 중 최저와 최고점수를 제외(최저 또는 최고점수가 2개 이상일 때에는 이중 하나만 제외) 한 후 나머지 평가점수를 산술평균하여 최종 평가점수를 부여하되, 평가점수가 소수점 이하가 있는 경우에는 소수점 다섯째 자리에서 반올림

Sheet 점수집계표(주식회사 인사바른)
B2: 제안서 평가 집계표
H3: 평가일자: | J3: 2026.4.22.
B4: 제안업체명 | D4: 주식회사 인사바른
B6: 순번 | C6: 평가위원 | D6: 기술능력평가(80점)
D7: 정량 (10점) | E7: 정성 (70점)
D8: 신용 평가 등급 (10) | E8: 사업 이해도 (10) | F8: 인력관리기술(20) | H8: 사업수행계획(30) | K8: 위기 대응 및 사후 관리(10) | L8: 합계
F9: 인력 전문성(10) | G9: 관리 기술(10) | H9: 채용 솔루션 (10) | I9: 전형별 운영(10) | J9: 문항 개발 등 (10)
B10: 1 | C10: A | D10: 9.5 | E10: 10 | F10: 8 | G10: 8 | H10: 6 | I10: 10 | J10: 10 | K10: 8 | L10: =SUM(D10:K10) -> 69.5 | N10: =RANK(L10,$L$10:$L$16) -> 7
B11: 2 | C11: B | D11: 9.5 | E11: 10 | F11: 10 | G11: 8 | H11: 8 | I11: 10 | J11: 10 | K11: 10 | L11: =SUM(D11:K11) -> 75.5 | N11: =RANK(L11,$L$10:$L$16) -> 2
B12: 3 | C12: C | D12: 9.5 | E12: 10 | F12: 8 | G12: 8 | H12: 10 | I12: 8 | J12: 8 | K12: 10 | L12: =SUM(D12:K12) -> 71.5 | N12: =RANK(L12,$L$10:$L$16) -> 5
B13: 4 | C13: D | D13: 9.5 | E13: 10 | F13: 10 | G13: 8 | H13: 10 | I13: 10 | J13: 10 | K13: 10 | L13: =SUM(D13:K13) -> 77.5 | N13: =RANK(L13,$L$10:$L$16) -> 1
B14: 5 | C14: E | D14: 9.5 | E14: 10 | F14: 10 | G14: 8 | H14: 8 | I14: 8 | J14: 10 | K14: 8 | L14: =SUM(D14:K14) -> 71.5 | N14: =RANK(L14,$L$10:$L$16) -> 5
B15: 6 | C15: F | D15: 9.5 | E15: 10 | F15: 8 | G15: 10 | H15: 10 | I15: 8 | J15: 8 | K15: 10 | L15: =SUM(D15:K15) -> 73.5 | N15: =RANK(L15,$L$10:$L$16) -> 4
B16: 7 | C16: G | D16: 9.5 | E16: 10 | F16: 10 | G16: 8 | H16: 10 | I16: 10 | J16: 10 | K16: 8 | L16: =SUM(D16:K16) -> 75.5 | N16: =RANK(L16,$L$10:$L$16) -> 2
B17: 총계 | D17: =D10+D11+D12+D13 -> 38 | E17: =E10+E11+E12+E13 -> 40 | F17: =F10+F11+F12+F13 -> 36 | G17: =G10+G11+G12+G13 -> 32 | H17: =H10+H11+H12+H13 -> 34 | I17: =I10+I11+I12+I13 -> 38 | J17: =J10+J11+J12+J13 -> 38 | K17: =K10+K11+K12+K13 -> 38 | L17: =SUM(L10:L16)-MAX(L10:L16)-MIN(L10:L16) -> 367.5
B18: 평균점수 | D18: =D17/4 -> 9.5 | E18: =E17/4 -> 10 | F18: =F17/4 -> 9 | G18: =G17/4 -> 8 | H18: =H17/4 -> 8.5 | I18: =I17/4 -> 9.5 | J18: =J17/4 -> 9.5 | K18: =K17/4 -> 9.5 | L18: =L17/5 -> 73.5
B19: ※ 제안업체별 기술능력평가 최종 점수는 평가위원의 평가점수 중 최저와 최고점수를 제외(최저 또는 최고점수가 2개 이상일 때에는 이중 하나만 제외) 한 후 나머지 평가점수를 산술평균하여 최종 평가점수를 부여하되, 평가점수가 소수점 이하가 있는 경우에는 소수점 다섯째 자리에서 반올림

Sheet 점수집계표(클립스하이어 주식회사)
B2: 제안서 평가 집계표
H3: 평가일자: | J3: 2026.4.22.
B4: 제안업체명 | D4: 클립스하이어 주식회사
B6: 순번 | C6: 평가위원 | D6: 기술능력평가(80점)
D7: 정량 (10점) | E7: 정성 (70점)
D8: 신용 평가 등급 (10) | E8: 사업 이해도 (10) | F8: 인력관리기술(20) | H8: 사업수행계획(30) | K8: 위기 대응 및 사후 관리(10) | L8: 합계
F9: 인력 전문성(10) | G9: 관리 기술(10) | H9: 채용 솔루션 (10) | I9: 전형별 운영(10) | J9: 문항 개발 등 (10)
B10: 1 | C10: A | L10: =SUM(D10:K10) -> 0 | N10: =RANK(L10,$L$10:$L$16) -> 1
B11: 2 | C11: B | L11: =SUM(D11:K11) -> 0 | N11: =RANK(L11,$L$10:$L$16) -> 1
B12: 3 | C12: C | L12: =SUM(D12:K12) -> 0 | N12: =RANK(L12,$L$10:$L$16) -> 1
B13: 4 | C13: D | L13: =SUM(D13:K13) -> 0 | N13: =RANK(L13,$L$10:$L$16) -> 1
B14: 5 | C14: E | L14: =SUM(D14:K14) -> 0 | N14: =RANK(L14,$L$10:$L$16) -> 1
B15: 6 | C15: F | L15: =SUM(D15:K15) -> 0 | N15: =RANK(L15,$L$10:$L$16) -> 1
B16: 7 | C16: G | L16: =SUM(D16:K16) -> 0 | N16: =RANK(L16,$L$10:$L$16) -> 1
B17: 총계 | D17: =D11+D12+D13+D15 -> 0 | E17: =E11+E12+E13+E15 -> 0 | F17: =F11+F12+F13+F15 -> 0 | G17: =G11+G12+G13+G15 -> 0 | H17: =H11+H12+H13+H15 -> 0 | I17: =I11+I12+I13+I15 -> 0 | J17: =J11+J12+J13+J15 -> 0 | K17: =K11+K12+K13+K15 -> 0 | L17: =SUM(L10:L16)-MAX(L10:L16)-MIN(L10:L16) -> 0
B18: 평균점수 | D18: =D17/4 -> 0 | E18: =E17/4 -> 0 | F18: =F17/4 -> 0 | G18: =G17/4 -> 0 | H18: =H17/4 -> 0 | I18: =I17/4 -> 0 | J18: =J17/4 -> 0 | K18: =K17/4 -> 0 | L18: =L17/4 -> 0
B19: ※ 제안업체별 기술능력평가 최종 점수는 평가위원의 평가점수 중 최저와 최고점수를 제외(최저 또는 최고점수가 2개 이상일 때에는 이중 하나만 제외) 한 후 나머지 평가점수를 산술평균하여 최종 평가점수를 부여하되, 평가점수가 소수점 이하가 있는 경우에는 소수점 다섯째 자리에서 반올림
