Workbook

Sheet 인증업체현황(본점)
A1: 장애인 표준사업장 인증 사업체 명단
A3: 인증번호 | B3: 사업체명 | C3: 관할지사 | D3: 대표자 | E3: 사업자등록번호 | F3: 소재지 | G3: 인증일자 | H3: 전화번호 | I3: 업종 및 주요생산품 | J3: 구분
A4: 제2013-001호 | B4: (주)포스코휴먼스 | C4: 경북지사 | D4: 박승대 | E4: 506-81-69850 | F4: 경상북도 포항시 남구 동해안로 6213번길 15-1 | G4: 41444 | H4: 054-220-7733 | I4: 서비스업(사무지원), 세탁업, 차량관리사업, 제조업(포스아트) | J4: 자회사
A5: 제2013-003호 | B5: (주)오피스메카 | C5: 서울지역본부 | D5: 김서진 | E5: 106-81-80897 | F5: 서울특별시 용산구 청파로 77, 6동 2층 27호 | G5: 41444 | H5: 1588-7993 | I5: 제조업(사무용품, 홍보판촉용품, 인쇄 디자인 등) | J5: 일반
A6: 제2013-004호 | B6: (주)뉴덕흥기업 | C6: 서울지역본부 | D6: 백성현 | E6: 110-81-68835 | F6: 서울특별시 은평구 응암로 319(응암동) | G6: 41444 | H6: 031-964-0896 | I6: 세탁업(병원 세탁물) | J6: 일반
A7: 제2013-005호 | B7: (주)그린주의 | C7: 서울북부지사 | D7: 김현미 | E7: 204-81-97877 | F7: 서울특별시 중랑구 신내역로3길 40-36, A동 1층 R106호(신내동, 신내데시앙플랙스지식산업센터) | G7: 41444 | H7: 1544-0725 | I7: 제조업(문구류, 카트리지, 인쇄, 판촉기념품) | J7: 일반
A8: 제2013-008호 | B8: (주)베어베터 | C8: 서울북부지사 | D8: 이진희 | E8: 101-86-71777 | F8: 서울특별시 성동구 성수일로4길 25(성수동2가) | G8: 41444 | H8: 02-6267-6919 | I8: 제조업, 출판, 도매 및 소매업(인쇄업, 빵, 과자 제조 및 판매, 커피가공업, 출판, 화환, 꽃, 화분) | J8: 일반
A9: 제2013-010호 | B9: (사)한국장애인문인복지후원회 | C9: 서울지역본부 | D9: 김상태 | E9: 104-82-09202 | F9: 서울특별시 중구 서애로5길 15(필동3가, 호산나빌딩) | G9: 41444 | H9: 02-2271-2526 | I9: 인쇄업, 출판, 현수막, 재생토너 | J9: 일반
A10: 제2013-011호 | B10: ㈜유베이스유니티 | C10: 서울지역본부 | D10: 채현석 | E10: 106-86-59666 | F10: 서울특별시 용산구 한강대로38길 37(용산동5가) | G10: 41444 | H10: 032-622-2006 | I10: 서비스업(콜센터) | J10: 자회사
A11: 제2013-012호 | B11: 주식회사엔비전스 | C11: 서울지역본부 | D11: 송영희 | E11: 120-87-37063 | F11: 서울특별시 종로구 북촌로 71 (가회동) | G11: 41444 | H11: 02-313-9977 | I11: 서비스업(전시장 운영) | J11: 자회사
A12: 제2013-013호 | B12: ㈜더사랑 | C12: 서울북부지사 | D12: 권문경 | E12: 217-81-37308 | F12: 서울특별시 중랑구 신내역로3길 40-36, B동 OB103호 | G12: 41444 | H12: 02-973-1051 | I12: 제조업(문구류) | J12: 자회사
A13: 제2013-014호 | B13: （주）평화아름 | C13: 서울동부지사 | D13: 김훈겸 | E13: 214-88-52653 | F13: 서울특별시 서초구 반포대로 22 서초평화빌딩 14층 | G13: 41444 | H13: 02-2258-8431 | I13: 서비스업(콜센터) | J13: 자회사
A14: 제2013-015호 | B14: 사회복지법인 해든 | C14: 서울남부지사 | D14: 선효진 | E14: 108-82-04475 | F14: 서울특별시 금천구 가산디지털1로 119, 비동 212호(가산동,SK트윈테크타워) | G14: 41444 | H14: 02-868-6854 | I14: 제조업(인쇄, 가구 등) | J14: 일반
A15: 제2013-016호 | B15: (주)제일과동행 | C15: 서울남부지사 | D15: 김상헌 | E15: 119-86-46298 | F15: 서울특별시 금천구 벚꽃로 254, 1207호 (가산동, 월드메르디앙벤쳐센터) | G15: 41444 | H15: 02-3453-1970 | I15: 임가공업(자동차 부품 , 유아 용품 등 단순포장 납품) | J15: 자회사
... A892: 제2026-043호 | B892: 지혜로운 의원 | C892: 서울북부지사 | D892: 지혜 | E892: 563-97-01719 | F892: 서울시 강북구 도봉로 52, 10층(미아동, 연이빌딩) | G892: 46192 | H892: 02-6733-78202 | I892: 보건업(의료검진서비스) | J892: 일반

Sheet 분사무소 조사표
A1: 장애인 표준사업장 분사무소 조사표
A2: 본점 정보 | G2: 분사무소(장) 정보
A3: 관할지사 | B3: 인증번호 | C3: 사업체명 | D3: 대표자 | E3: 본사 사업자등록번호 | F3: 인증일자 | G3: 사업장명 | H3: 대표자 | I3: 사업자등록번호 | J3: 소재지 | K3: 인증일자 | L3: 전화번호 | M3: 업종 및 주요생산품 | N3: 사업체 구분 (일반 or 자회사)
A4: 경북 | B4: 제2013-001호 | C4: (주)포스코휴먼스 | D4: 박승대 | E4: 506-81-69850 | F4: 41444 | G4: 포스코휴먼스 서울지점 | H4: 박승대 | I4: 120-85-43810 | J4: 서울특별시 강남구 테헤란로 440 (대치동, 포스코센터) | K4: 41444 | L4: 054-220-7733 | M4: 서비스업(인사노무총무후생 사무지원), 세탁업, 차량관리사업 외 | N4: =VLOOKUP(B4,'인증업체현황(본점)'!$A$4:$J$892,10,FALSE) -> 자회사
A5: 경북 | B5: 제2013-001호 | C5: (주)포스코휴먼스 | D5: 박승대 | E5: 506-81-69850 | F5: 41444 | G5: 포스코휴먼스 광양지점 | H5: 박승대 | I5: 416-85-27647 | J5: 전라남도 광양시 금호로 330-1(금호동) | K5: 41444 | L5: 054-220-7733 | M5: 서비스업(인사노무총무후생 사무지원), 세탁업, 차량관리사업 외 | N5: =VLOOKUP(B5,'인증업체현황(본점)'!$A$4:$J$892,10,FALSE) -> 자회사
A6: 경북 | B6: 제2013-001호 | C6: (주)포스코휴먼스 | D6: 박승대 | E6: 506-81-69850 | F6: 41444 | G6: 포스코휴먼스 포스아트포항공장 | H6: 박승대 | I6: 506-81-69850 | J6: 경상북도 포항시 남구 대송면 송덕로68 공장동2동 G13동(태창철강주식회사) | K6: 41444 | L6: 054-220-7733 | M6: 제조업(도금, 착색 및 기타) | N6: =VLOOKUP(B6,'인증업체현황(본점)'!$A$4:$J$892,10,FALSE) -> 자회사
A7: 서울 | B7: 제2013-003호 | C7: (주)오피스메카 | D7: 김서진 | E7: 106-81-80897 | F7: 41444 | G7: 오피스메카㈜ 경기북부지사 | H7: 김서진 | I7: 691-85-02397 | J7: 경기 고양시 덕양구 으뜸로 110, 2동 1118호, 1119호 | K7: 41444 | L7: 1588-7993 | M7: 기념품 및 판촉물 등 | N7: =VLOOKUP(B7,'인증업체현황(본점)'!$A$4:$J$892,10,FALSE) -> 일반
A8: 서울 | B8: 제2013-003호 | C8: (주)오피스메카 | D8: 김서진 | E8: 106-81-80897 | F8: 41444 | G8: 오피스메카㈜ 경기지사 | H8: 김서진 | I8: 656-85-00950 | J8: 경기 성남시 중원구 사미기막골로 62번길 33, 924호(성남센터엠) | K8: 41444 | L8: 1588-7993 | M8: 기념품 및 판촉물 등 | N8: =VLOOKUP(B8,'인증업체현황(본점)'!$A$4:$J$892,10,FALSE) -> 일반
A9: 서울 | B9: 제2013-003호 | C9: (주)오피스메카 | D9: 김서진 | E9: 106-81-80897 | F9: 41444 | G9: 오피스메카㈜ 울산지점 | H9: 김서진 | I9: 411-85-21901 | J9: 울산 중구 강북로 105, 405-다05호, 롯데스카이캐슬 | K9: 41444 | L9: 1588-7993 | M9: 기념품 및 판촉물 등 | N9: =VLOOKUP(B9,'인증업체현황(본점)'!$A$4:$J$892,10,FALSE) -> 일반
A10: 서울 | B10: 제2013-004호 | C10: (주)뉴덕흥기업 | D10: 백성현 | E10: 110-81-68835 | F10: 41444 | G10: ㈜뉴덕흥기업 | H10: 백성현 | I10: 128-85-57190 | J10: 경기도 고양시 일산동구 공릉천로 126 | K10: 41444 | L10: 031-964-0898 | M10: 서비스업(세탁) | N10: =VLOOKUP(B10,'인증업체현황(본점)'!$A$4:$J$892,10,FALSE) -> 일반
A11: 서울 | B11: 제2013-004호 | C11: (주)뉴덕흥기업 | D11: 백성현 | E11: 110-81-68835 | F11: 41444 | G11: ㈜뉴덕흥기업 | H11: 백성현 | I11: 128-85-46863 | J11: 경기도 고양시 일산동구 지영동 1092 | K11: 41444 | L11: 031-964-5505 | M11: 제조업(콘크리트 벽돌) | N11: =VLOOKUP(B11,'인증업체현황(본점)'!$A$4:$J$892,10,FALSE) -> 일반
A12: 서울북부 | B12: 제2013-005호 | C12: (주)그린주의 | D12: 김현미 | E12: 204-81-97877 | F12: 41444 | G12: ㈜그린주의 강원지사 | H12: 김현미 | I12: 722-85-02333 | J12: 강원도 원주시 세계로 9, 802호 | K12: 41444 | L12: 1544-0725 | M12: 도소매 및 서비스업(전산소모품,사무용품,판촉물,인쇄) | N12: =VLOOKUP(B12,'인증업체현황(본점)'!$A$4:$J$892,10,FALSE) -> 일반
A13: 서울북부 | B13: 제2013-005호 | C13: (주)그린주의 | D13: 김현미 | E13: 204-81-97877 | F13: 41444 | G13: ㈜그린주의 경기지사 | H13: 김현미 | I13: 639-85-00431 | J13: 경기도 수원시 영통구 영통로 237 803호(신동, 에이스하이엔드타워영통) | K13: 41444 | L13: 1544-0725 | M13: 도소매 및 서비스업(전산소모품,사무용품,판촉물,인쇄) | N13: =VLOOKUP(B13,'인증업체현황(본점)'!$A$4:$J$892,10,FALSE) -> 일반
A14: 서울북부 | B14: 제2013-005호 | C14: (주)그린주의 | D14: 김현미 | E14: 204-81-97877 | F14: 41444 | G14: ㈜그린주의 경남지사 | H14: 김현미 | I14: 834-85-01127 | J14: 경상남도 양산시 물금읍 물금로 41, 215호(상가동) | K14: 41444 | L14: 1544-0725 | M14: 도소매 및 서비스업(전산소모품,사무용품,판촉물,인쇄) | N14: =VLOOKUP(B14,'인증업체현황(본점)'!$A$4:$J$892,10,FALSE) -> 일반
A15: 서울북부 | B15: 제2013-005호 | C15: (주)그린주의 | D15: 김현미 | E15: 204-81-97877 | F15: 41444 | G15: ㈜그린주의 광주지사 | H15: 김현미 | I15: 409-85-32690 | J15: 광주광역시 북구 첨단과기로208번길 43-10 비동 35호(오룡동, 마루힐아이비씨지식산업센터) | K15: 41444 | L15: 1544-0725 | M15: 도소매 및 서비스업(전산소모품,사무용품,판촉물,인쇄) | N15: =VLOOKUP(B15,'인증업체현황(본점)'!$A$4:$J$892,10,FALSE) -> 일반
... A275: 서울북부 | B275: 제2021-069호 | C275: 파란동그라미 사회적 협동조합 | D275: 송애덕 | E275: 384-82-00388 | F275: 44515 | G275: 파란동그라미 갤러리힐링카페 | H275: 송애덕 | I275: 471-82-00402 | J275: 서울특별시 노원구 동일로174길 27, 1층 | K275: 44515 | L275: 02-933-8200 | M275: 제과제빵, 카페 | N275: =VLOOKUP(B275,'인증업체현황(본점)'!$A$4:$J$892,10,FALSE) -> 일반
A276: 전북 | B276: 제2021-070호 | C276: 사단법인 행복드림복지회 | D276: 김선례 | E276: 162-82-00134 | F276: 2021.11.15 | G276: 두리이엔지 | H276: 김관일 | I276: 465-82-00111 | J276: 전라북도 익산시 함열읍 익산대로 78길 179-10 | K276: 44515 | L276: 063-861-1600 | M276: 제조업( 수배전반 MCC분전반) | N276: =VLOOKUP(B276,'인증업체현황(본점)'!$A$4:$J$892,10,FALSE) -> 일반
A277: 전북 | B277: 제2021-070호 | C277: 사단법인 행복드림복지회 | D277: 김선례 | E277: 162-82-00134 | F277: 2021.11.15 | G277: 탑테크표준사업장 | H277: 김선례 | I277: 420-82-00608 | J277: 전라북도 완주군 삼례읍 테크노밸리로 96-27 | K277: 44515 | L277: 063-861-1600 | M277: 제조업( 수배전반 MCC분전반) | N277: =VLOOKUP(B277,'인증업체현황(본점)'!$A$4:$J$892,10,FALSE) -> 일반
A278: 경기동부 | B278: 제2021-074호 | C278: 에코솔루션 | D278: 이경임, 정옥남 | E278: 721-88-01894 | F278: 44522 | G278: 에코솔루션주식회사 | H278: 이경임, 정옥남 | I278: 721-88-01894 | J278: 경기도 하남시 조정대로 150, 469,470(덕풍동, 아이테코) | K278: 44522 | L278: 031-8027-2087 | M278: 제조업(LED 등기구) | N278: =VLOOKUP(B278,'인증업체현황(본점)'!$A$4:$J$892,10,FALSE) -> 일반
A279: 경기동부 | B279: 제2021-074호 | C279: 에코솔루션 | D279: 이경임, 정옥남 | E279: 721-88-01894 | F279: 44522 | G279: 에코솔루션주식회사(종사업장) | H279: 이경임, 정옥남 | I279: 721-88-01894 | J279: 경기도 하남시 조정대로 150, 1층 125호(덕풍동, 아이테코) | K279: 44522 | L279: 031-8027-2087 | M279: 사업시설관리 및 사업지원서비스 | N279: =VLOOKUP(B279,'인증업체현황(본점)'!$A$4:$J$892,10,FALSE) -> 일반
A280: 서울북부 | B280: 제2021-080호 | C280: 사단법인 한국장애인근로복지협회 | D280: 조무연 | E280: 121-82-16576 | F280: 44526 | G280: 한국장애인근로복지협회 기전사업단 | H280: 조무연 | I280: 125-82-12591 | J280: 경기도 김포시 대곶면 오니산로 108 | K280: 44526 | L280: 02-433-2290 | M280: 제조업(상하수기계장치 구성품) | N280: =VLOOKUP(B280,'인증업체현황(본점)'!$A$4:$J$892,10,FALSE) -> 일반
A281: 서울 | B281: 제2021-086호 | C281: (사)노란들판 | D281: 양현준 | E281: 101-82-21153 | F281: 44536 | G281: 장애인자립생활센터 판 | H281: 양현준 | I281: 209-82-11361 | J281: 서울특별시 성북구 삼선교로 39, 4층 | K281: 44536 | L281: 02-766-9101 | M281: 서비스업(사회복지) | N281: =VLOOKUP(B281,'인증업체현황(본점)'!$A$4:$J$892,10,FALSE) -> 일반
A282: 경기북부 | B282: 제2021-093호 | C282: 세상 (주) | D282: 홍의성 | E282: 183-88-02048 | F282: 44545 | G282: 세상㈜ 서울지사 | H282: 홍의설 | I282: 497-85-02591 | J282: 서울특별시 구로구 부광로 88, B104-A호 | K282: 46064 | L282: - | M282: 세탁업(산업용 세탁) | N282: =VLOOKUP(B282,'인증업체현황(본점)'!$A$4:$J$892,10,FALSE) -> 일반
A283: 경기북부 | B283: 제2021-093호 | C283: 세상 (주) | D283: 홍의성 | E283: 183-88-02048 | F283: 44545 | G283: 세상 ㈜ (본점) | H283: 홍의성 | I283: 183-88-02048 | J283: 경기도 파주시 법원읍 화합로 420 | K283: 44545 | L283: 031-939-2301 | M283: 세탁업(산업용 세탁) | N283: =VLOOKUP(B283,'인증업체현황(본점)'!$A$4:$J$892,10,FALSE) -> 일반
A284: 경기북부 | B284: 제2021-093호 | C284: 세상 (주) | D284: 홍의성 | E284: 183-88-02048 | F284: 44545 | G284: 세상 ㈜ (김포지사) | H284: 홍의성 | I284: - | J284: 경기도 김포시 태장로 765, 522호 | K284: 44545 | L284: 031-939-2301 | M284: 세탁업(산업용 세탁) | N284: =VLOOKUP(B284,'인증업체현황(본점)'!$A$4:$J$892,10,FALSE) -> 일반
A285: 경기북부 | B285: 제2021-093호 | C285: 세상 (주) | D285: 홍의성 | E285: 183-88-02048 | F285: 44545 | G285: 세상 ㈜ (양양지사) | H285: 홍의성 | I285: - | J285: 강원특별자치도 양양군 현남면 인구중앙길 10 | K285: 44545 | L285: 031-939-2301 | M285: 세탁업(산업용 세탁) | N285: =VLOOKUP(B285,'인증업체현황(본점)'!$A$4:$J$892,10,FALSE) -> 일반
A286: 경기 | B286: 제2021-095호 | C286: 주식회사 씨엘씨컴퍼니 | D286: 김우영 | E286: 553-87-00863 | F286: 44545 | G286: 이마트24신세계의정부점 | H286: 김우영 | I286: 481-85-01850 | J286: 경기도 의정부시 평화로 525, 8층(의정부동) | K286: 44727 | L286: 031-359-8102 | M286: 도소매업(편의점) | N286: =VLOOKUP(B286,'인증업체현황(본점)'!$A$4:$J$892,10,FALSE) -> 일반
A287: 경기 | B287: 제2021-095호 | C287: 주식회사 씨엘씨컴퍼니 | D287: 김우영 | E287: 553-87-00863 | F287: 44545 | G287: 주식회사 씨엘씨컴퍼니 향남공장 | H287: 김우영 | I287: 387-85-02111 | J287: 경기도 화성시 향남읍 길성길 166-93 | K287: 44727 | L287: 031-359-8102 | M287: 제조 및 도소매업(마스크) | N287: =VLOOKUP(B287,'인증업체현황(본점)'!$A$4:$J$892,10,FALSE) -> 일반
A288: 경기 | B288: 제2021-095호 | C288: 주식회사 씨엘씨컴퍼니 | D288: 김우영 | E288: 553-87-00863 | F288: 44545 | G288: 씨유광주앰코공장2호점 | H288: 김우영 | I288: 587-85-02235 | J288: 광주광역시 북구 앰코로 100, 1층(대촌동) | K288: 44727 | L288: 031-359-8102 | M288: 도소매업(편의점) | N288: =VLOOKUP(B288,'인증업체현황(본점)'!$A$4:$J$892,10,FALSE) -> 일반
A289: 경기 | B289: 제2021-095호 | C289: 주식회사 씨엘씨컴퍼니 | D289: 김우영 | E289: 553-87-00863 | F289: 44545 | G289: CU광주앰코공장점 | H289: 김우영 | I289: 110-85-32446 | J289: 광주광역시 북구 앰코로 100, 3층(대촌동) | K289: 44727 | L289: 031-359-8102 | M289: 도소매업(편의점) | N289: =VLOOKUP(B289,'인증업체현황(본점)'!$A$4:$J$892,10,FALSE) -> 일반
... A333: 경기북부 | B333: 제2022-049호 | C333: 주식회사 반들 | D333: 최광형 | E333: 532-86-02697 | F333: 44876 | G333: 주식회사 반들 대구지점 | H333: 최광형 | I333: 532-86-02697 | J333: 대구광역시 남구 이천로 63(봉덕동) | K333: 44876 | L333: - | M333: 서비스업(자동차 세차) | N333: =VLOOKUP(B333,'인증업체현황(본점)'!$A$4:$J$892,10,FALSE) -> 자회사
A334: 경기 | B334: 제2022-064호 | C334: (주)효성이엔씨 | D334: 유용준 | E334: 106-81-82274 | F334: 2022-12-08 | G334: 주식회사 효성조명 서울지점 | H334: 유용준 | I334: 106-81-82274 | J334: 서울시 용산구 원효로35번길 20(원효로 3가) | K334: 44903 | L334: 031-351-4828 | M334: 제조업(LED조명기구) | N334: =VLOOKUP(B334,'인증업체현황(본점)'!$A$4:$J$892,10,FALSE) -> 일반
A335: 경기서부 | B335: 제2022-069호 | C335: (주)이랑 | D335: 정이랑 | E335: 258-81-00592 | F335: 44911 | G335: 주식회사 이랑(서울지점) | H335: 정이랑 | I335: 296-85-00398 | J335: 서울특별시 강서구 마곡중앙6로 45, A동 6층 609-A19호(마곡동, 리더스퀘어마곡) | K335: 44911 | L335: 031-469-2606 | M335: 도매 및 소매(판촉물, 기념품, 문구용품, 경인쇄업 등) | N335: =VLOOKUP(B335,'인증업체현황(본점)'!$A$4:$J$892,10,FALSE) -> 일반
A336: 서울 | B336: 제2022-089호 | C336: 사회적협동조합 스윗 | D336: 박경욱 | E336: 124-82-34893 | F336: 44924 | G336: 스윗(서울대입구점) | H336: 박경욱 | I336: 416-82-22073 | J336: 서울 관악구 관악로 212 | K336: 44924 | L336: 070-5151-0033 | M336: 카페 및 식음료 | N336: =VLOOKUP(B336,'인증업체현황(본점)'!$A$4:$J$892,10,FALSE) -> 일반
A337: 서울 | B337: 제2022-089호 | C337: 사회적협동조합 스윗 | D337: 박경욱 | E337: 124-82-34893 | F337: 44924 | G337: 스윗(정릉점) | H337: 박경욱 | I337: 533-82-00428 | J337: 서울 성북구 보국문로 37 | K337: 44924 | L337: 070-5151-0033 | M337: 카페 및 식음료 | N337: =VLOOKUP(B337,'인증업체현황(본점)'!$A$4:$J$892,10,FALSE) -> 일반
A338: 서울 | B338: 제2022-089호 | C338: 사회적협동조합 스윗 | D338: 박경욱 | E338: 124-82-34893 | F338: 44924 | G338: 스윗(백년관점) | H338: 박경욱 | I338: 594-82-00419 | J338: 서울 중구 남대문로 10길 29, 1층 | K338: 44924 | L338: 070-5151-0033 | M338: 카페 및 식음료 | N338: =VLOOKUP(B338,'인증업체현황(본점)'!$A$4:$J$892,10,FALSE) -> 일반
A339: 서울 | B339: 제2022-090호 | C339: (주)제이스타일코리아 | D339: 장인석 | E339: 104-86-42489 | F339: 44924 | G339: 스타필드 부천점 | H339: 장인석 | I339: 104-86-42489 | J339: 경기 부천시 범안로 227, 311호 | K339: 44924 | L339: 070-8857-1080 | M339: 아동복 제조 및 판매 | N339: =VLOOKUP(B339,'인증업체현황(본점)'!$A$4:$J$892,10,FALSE) -> 일반
A340: 서울 | B340: 제2022-090호 | C340: (주)제이스타일코리아 | D340: 장인석 | E340: 104-86-42489 | F340: 44924 | G340: 안성공장 | H340: 장인석 | I340: 104-86-42489 | J340: 경기 안성시 비봉로 85 | K340: 44924 | L340: 070-8857-1080 | M340: 아동복 제조 및 판매 | N340: =VLOOKUP(B340,'인증업체현황(본점)'!$A$4:$J$892,10,FALSE) -> 일반
A341: 서울 | B341: 제2022-090호 | C341: (주)제이스타일코리아 | D341: 장인석 | E341: 104-86-42489 | F341: 44924 | G341: 스타필드 위례점 | H341: 장인석 | I341: 104-86-42489 | J341: 경기 하남시 위례대로 200, 2106호 | K341: 44924 | L341: 070-8857-1080 | M341: 아동복 제조 및 판매 | N341: =VLOOKUP(B341,'인증업체현황(본점)'!$A$4:$J$892,10,FALSE) -> 일반
A342: 충북 | B342: 제2023-006호 | C342: (주)네패스루아 | D342: 이창우 | E342: 704-81-02813 | F342: 44963 | G342: (주)네패스루아 | H342: 이창우 | I342: 704-81-02813 | J342: 충청북도 괴산군 청안면 네패스로 30 | K342: 44963 | L342: 043-240-0377 | M342: 문화예술(오케스트라공연) | N342: =VLOOKUP(B342,'인증업체현황(본점)'!$A$4:$J$892,10,FALSE) -> 자회사
A343: 충북 | B343: 제2023-006호 | C343: (주)네패스루아 | D343: 이창우 | E343: 704-81-02813 | F343: 44963 | G343: (주)네패스루아 | H343: 이창우 | I343: 704-81-02813 | J343: 충청북도 괴산군 청안면 네패스로 42 | K343: 44963 | L343: 043-240-0377 | M343: 문화예술(오케스트라공연) | N343: =VLOOKUP(B343,'인증업체현황(본점)'!$A$4:$J$892,10,FALSE) -> 자회사
A344: 경남동부 | B344: 제2023-007호 | C344: 주식회사 재성 | D344: 김소현 | E344: 568-88-02628 | F344: 44992 | G344: 주식회사 재성 창원지점 | H344: 김소현 | I344: 657-85-03358 | J344: 경상남도 창원시 성산구 완암로 50, 넥스동 415호(성산동) | K344: 44992 | L344: 055-343-3070 | M344: 제조업(전기전자부품) | N344: =VLOOKUP(B344,'인증업체현황(본점)'!$A$4:$J$892,10,FALSE) -> 자회사
A345: 서울 | B345: 제2023-008호 | C345: 이수매니지먼트 주식회사 | D345: 박애영 | E345: 309-81-08010 | F345: 44994 | G345: ECC점 | H345: 박애영 | I345: 309-81-08010 | J345: 서울 서대문구 이화여대길 52, 이화캠퍼스복합단지 비417호 | K345: 44994 | L345: 070-8830-2281 | M345: 제빵 및 카페 | N345: =VLOOKUP(B345,'인증업체현황(본점)'!$A$4:$J$892,10,FALSE) -> 자회사
A346: 서울 | B346: 제2023-031호 | C346: 사단법인하나복지회 | D346: 이영임 | E346: 104-82-12594 | F346: 45113 | G346: 피복사업장 | H346: 김기순 | I346: 328-82-00447 | J346: 부산 사하구 다대로354번안길 20, 2층 | K346: 45113 | L346: 02-2263-1105 | M346: 인쇄 | N346: =VLOOKUP(B346,'인증업체현황(본점)'!$A$4:$J$892,10,FALSE) -> 일반
... A440: 부산 | B440: 제2026-011호 | C440: (사)골든장애인협회 | D440: 류재오 | E440: 476-82-00163 | F440: 46062 | G440: (사)골든장애인협회사업단 | H440: 류재오 | I440: 661-82-00228 | J440: 부산광역시 사하구 보덕포1길 100 | K440: 46062 | L440: 051-464-1791 | M440: 제조업(전기수배전반, 분전반, 전동기제어반, 구내방송장치,계장제어장치,빌딩제어장치) | N440: =VLOOKUP(B440,'인증업체현황(본점)'!$A$4:$J$892,10,FALSE) -> 일반

Sheet 인증취소 현황
A1: 장애인 표준사업장 인증 취소 사업체 명단
A3: 인증번호 | B3: 사업체명 | C3: 사업자등록번호 | D3: 소재지 | E3: 인증일자 | F3: 업종 및 주요생산품 | G3: 구분 | H3: 취소일
A4: 제2013-066호 | B4: (주)유아이넷 | C4: 138-81-73675 | D4: 경기도 성남시 분당구 판교로255번길 9-22 W-city 805 (삼평동,우림 W-CITY 8층) | E4: 41444 | F4: 그 외 기타 정보 서비스업 | G4: 일반 | H4: 41521
A5: 제2013-007호 | B5: (주)알래스카인디고 | C5: 107-87-05307 | D5: 서울특별시 중구 충무로 29 아시아미디어타워 (초동) | E5: 41444 | F5: 기타 인쇄물 출판업 | G5: 일반 | H5: 41638
A6: 제2013-121호 | B6: 주식회사 한울 | C6: 128-86-61783 | D6: 강원특별자치도 원주시 흥업면 연세대길 1 (매지리), 연세대학교장애인창업보육센터307 | E6: 41555 | F6: 그 외 기타 플라스틱 제품 제조업 | G6: 일반 | H6: 41752
A7: 제2013-141호 | B7: 풍년유통영농조합법인 | C7: 616-81-48564 | D7: 제주특별자치도 서귀포시 안덕면 사계북로 5 (사계리) | E7: 41638 | F7: 농산물 건조, 선별 및 기타 수확 후 서비스업 | G7: 일반 | H7: 41855
A8: 제2013-119호 | B8: (주)올케어코리아 | C8: 504-81-92016 | D8: 대구광역시 중구 남성로 7-2 (남성로) | E8: 41555 | F8: 기타 종이 및 판지 제조업 | G8: 일반 | H8: 41878
A9: 제2013-050호 | B9: (주)파고다에프에스 | C9: 409-81-71865 | D9: 전남광주통합특별시 광산구 하남산단10번로 39-9 (안청동) | E9: 41444 | F9: 제과점업 | G9: 일반 | H9: 41904
A10: 제2014-009호 | B10: (주)필코인(대전공장) | C10: 305-85-41179 | D10: 대전광역시 동구 산내로1315번길 6-11 (낭월동) | E10: 41747 | F10: 기타 인쇄물 출판업 | G10: 일반 | H10: 41927
A11: 제2013-101호 | B11: 광명자원 | C11: 615-03-79751 | D11: 제주특별자치도 제주시 조천읍 종인내길 355 (와흘리) | E11: 41444 | F11: 건설 폐기물 수집, 운반업 | G11: 일반 | H11: 41932
A12: 제2013-096호 | B12: 도남오거리외도점 | C12: 616-23-49715 | D12: 제주특별자치도 제주시 우정로7길 26-3 (외도일동) | E12: 41444 | F12: 한식 일반 음식점업 | G12: 일반 | H12: 42003
A13: 제2014-016호 | B13: 에코라이프 | C13: 608-04-84345 | D13: 충청남도 당진시 역천로 665 (행정동) | E13: 41855 | F13: 화장품 제조업 | G13: 일반 | H13: 42003
A14: 제2013-128호 | B14: (유)에코시스 | C14: 403-81-69361 | D14: 전북특별자치도 익산시 오산면 오산로 162 (장신리) | E14: 41611 | F14: 그 외 기타 플라스틱 제품 제조업 | G14: 일반 | H14: 42040
A15: 제2014-006호 | B15: 썬나노 | C15: 105-19-74357 | D15: 경기도 파주시 베리고개길 22-2 썬나노 B/D | E15: 41718 | F15: 전자상거래 소매 중개업 | G15: 일반 | H15: 42040
... A229: 제2022-062호 | B229: ㈜캠프리본 | C229: 279-87-00344 | D229: 경기도 하남시 하남대로 947, A동 10층 1010호, 1011호(풍산동, 하남테크노밸리 U1 CENTER) | E229: 44903 | F229: 제조업(의복, 군복) | G229: 일반 | H229: 45286
A230: 제2013-133호 | B230: 흥진섬유㈜ | C230: 3148602589 | D230: 대전광역시 서구 갈마역로 155(월평동) | E230: 41638 | F230: 제조업(와이셔츠, 근무복 등) | G230: 일반 | H230: 45420
A231: 제2013-142호 | B231: ㈜믿음을주는나무 | C231: 5138177080 | D231: 경상북도 구미시 고아읍 파산2길 56 | E231: 41638 | F231: 제조업(비닐봉투, 종량제 봉투) | G231: 일반 | H231: 45420
A232: 제2016-039호 | B232: 오죤 | C232: 129-15-66781 | D232: 충청남도 당진시 석문면 대호만로 1867 | E232: 42585 | F232: 제조업(칫솔 등) | G232: 일반 | H232: 45420
A233: 제2018-041호 | B233: ㈜빛누리 | C233: 214-86-44708 | D233: 경기도 김포시 통진읍 고척로 203 | E233: 43371 | F233: 제조업(전기조명장치, 태양광발전 등) | G233: 일반 | H233: 45420
A234: 제2018-063호 | B234: ㈜더하이 | C234: 424-81-00258 | D234: 전남광주통합특별시 광산구 평동산단7번로 72-28(연산동) | E234: 43434 | F234: 제조업(쌀과자 등) | G234: 일반 | H234: 45420
A235: 제2019-030호 | B235: ㈜이투인 | C235: 567-88-00840 | D235: 인천광역시 서구 거북로 25-50, 비동 2층(석남동) | E235: 43689 | F235: 제조업(LED 등) | G235: 일반 | H235: 45420
A236: 제2019-060호 | B236: ㈜영천산업 | C236: 293-81-00784 | D236: 제주특별자치도 제주시 서해안로 165(도두일동) | E236: 43808 | F236: 서비스업(물수건 세탁 등) | G236: 일반 | H236: 45420
A237: 제2020-033호 | B237: ㈜산내들나르샤 | C237: 360-81-00411 | D237: 전라남도 화순군 동면 운농리 822 | E237: 44043 | F237: 제조업(의복,섬유표백및가공), 세탁업 | G237: 일반 | H237: 45420
A238: 제2020-058호 | B238: 코리아모빌리티㈜ | C238: 428-88-01321 | D238: 경상남도 김해시 인제로 197, 401호 | E238: 44126 | F238: 제조업(자동차용 부품 등) | G238: 일반 | H238: 45420
A239: 제2021-014호 | B239: 미르텍㈜ | C239: 411-81-25379 | D239: 전라남도 목포시 대양산단로199번길 67(대양동) | E239: 44293 | F239: 제조업(CCTV 등) | G239: 일반 | H239: 45420
A240: 제2021-051호 | B240: 선한팩토리㈜ | C240: 876-88-02378 | D240: 경기도 부천시 석천로 397, 103동 1113호(삼정동, 부천테크노파크쌍용3차) | E240: 44455 | F240: 서비스업(종합디자인서비스, 광고대행 및 영상제작서비스 등) | G240: 일반 | H240: 45420
A241: 제2022-029호 | B241: ㈜다루다기프트 | C241: 553-88-01796 | D241: 전북특별자치도 전주시 완산구 홍산로 249, 6층 603호(효자동2가) | E241: 44753 | F241: 제조업(판촉물) | G241: 일반 | H241: 45420
A242: 제2023-002호 | B242: ㈜청명드림 | C242: 452-86-02445 | D242: 부산광역시 강서구 경전철로188번길 95-12, 1층, 2층(대저1동) | E242: 44930 | F242: 제조업(복사용지) | G242: 일반 | H242: 45420
A243: 제2023-051호 | B243: 주식회사 우리도 | C243: 157-88-02689 | D243: 경기도 용인시 기흥구 기흥로 58, b동 19층 1901호 | E243: 45204 | F243: 서비스업(경영컨설팅), 도소매업 | G243: 일반 | H243: 45420
... A246: 제2021-054호 | B246: ㈜오지글러브 | C246: 370-86-01810 | D246: 경상남도 창녕군 장마면 초곡길 322 | E246: 44474 | F246: 제조업(장갑류) | G246: 일반 | H246: 45434
A247: 제2013-034호 | B247: 건강누리의료기 | C247: 5043171016 | D247: 경상북도 칠곡군 동명면 금암리 416번지 | E247: 41444 | F247: 제조업(의료용품,의료기기) | G247: 일반 | H247: 45601
A248: 제2017-008호 | B248: ㈜에이치엘티 | C248: 249-87-00270 | D248: 제주특별자치도 서귀포시 토평공단로127번길 23(토평동) | E248: 42846 | F248: 서비스업(세탁) | G248: 일반 | H248: 45601
A249: 제2019-052호 | B249: 맥스웰테크㈜ | C249: 161-81-00565 | D249: 전북특별자치도 군산시 임피면 동군산로 810-19 | E249: 43787 | F249: 제조업(LED조명 등) | G249: 일반 | H249: 45601
A250: 제2019-075호 | B250: ㈜시우 | C250: 129-81-36491 | D250: 경기도 양주시 남면 삼육사로 249-31 | E250: 43819 | F250: 제조업(알루미늄 난간 등) | G250: 일반 | H250: 45601
A251: 제2020-065호 | B251: 농업회사법인 하늘땅㈜ | C251: 308-81-30009 | D251: 충청남도 논산시 부적면 남마구평길 96 | E251: 44154 | F251: 제조업(농산물) | G251: 일반 | H251: 45601
A252: 제2020-094호 | B252: ㈜백광산업 | C252: 615-81-75170 | D252: 경상남도 밀양시 부북면 사포공단1길 27 | E252: 44183 | F252: 세탁업(병원용) | G252: 일반 | H252: 45601
A253: 제2020-097호 | B253: 대원인쇄㈜ | C253: 201-86-37856 | D253: 서울특별시 중구 충무로 29, B303, 806호(초동, 아시아미디어타워) | E253: 44183 | F253: 인쇄업(도서, 출판물) | G253: 일반 | H253: 45601
A254: 제2021-017호 | B254: ㈜선영 | C254: 314-88-01982 | D254: 경기도 화성시 동탄첨단산업1로 63-12, 5층 514호, 810호(영천동, 동탄비즈타워) | E254: 44314 | F254: 제조업(LED조명기구 등) | G254: 일반 | H254: 45601
A255: 제2021-034호 | B255: ㈜일등나눔 | C255: 463-87-01254 | D255: 부산광역시 기장군 정관읍 정관로 929-4(A,C) | E255: 44361 | F255: 제조업(식품가공(소스류)) | G255: 자회사 | H255: 45601
A256: 제2021-045호 | B256: ㈜에어공조시스템 | C256: 652-86-02249 | D256: 경기도 파주시 광탄면 보광로632번길 14, 1층, 2층 | E256: 44431 | F256: 제조업, 도소매업(필터류, 공기조화기 등) | G256: 일반 | H256: 45601
A257: 제2021-057호 | B257: ㈜명성산업개발 | C257: 408-86-00305 | D257: 전남광주통합특별시 북구 양일로 166(양산동) | E257: 44488 | F257: 제조업(가구, 옥외광고) | G257: 일반 | H257: 45601
A258: 제2022-014호 | B258: ㈜아이디어비젼 | C258: 895-81-00881 | D258: 경기도 하남시 조정대로 45, 에프동 6층 632호(풍산동) | E258: 44663 | F258: 제조업(사진영상장비) | G258: 일반 | H258: 45601
A259: 제2022-015호 | B259: ㈜우리일터 | C259: 166-81-02156 | D259: 경기도 부천시 석천로 397, 102동 1305호(삼정동, 부천테크노파크쌍용3차) | E259: 44663 | F259: 제조업(친환경제품) | G259: 일반 | H259: 45601
... A361: 제2024-140호 | B361: 대한의료마케팅협회 주식회사 | C361: 895-88-01778 | D361: 경기도 군포시 광정로 80, 1101, 1102호(산본동, 신원타워빌딩) | E361: 45656 | F361: 마케팅 및 광고대행업 | G361: 일반 | H361: 46198
