Workbook

Sheet 기술능력평가 최종 결과표
B2: 기술능력평가 최종결과표
B4: 사업명 | D4: 2026년도 장애인 고용컨설팅·직무개발 성과공유대회 행사대행 용역
B6: 순번 | C6: 업체명 | D6: 평가점수 | L6: 평가 평균 점수 | M6: 적격 여부
D7: 정성평가(70점) | J7: 정량평가(10점)
D8: 기획능력(35) | G8: 운영능력(35) | J8: 수행능력(10)
D9: 현실성 (10) | E9: 독창성 (10) | F9: 적정성 (15) | G9: 행사장운영(15) | H9: 현장관리 (10) | I9: 안전보건수준(10) | J9: 인력보유 (5) | K9: 신용평가 (5)
B10: 1 | C10: ㈜쿨웨이브 | D10: ='점수집계표((주)쿨웨이브)'!D16 -> 9.3333333 | E10: ='점수집계표((주)쿨웨이브)'!E16 -> 9.6666667 | F10: ='점수집계표((주)쿨웨이브)'!F16 -> 14.333333 | G10: ='점수집계표((주)쿨웨이브)'!G16 -> 13.666667 | H10: ='점수집계표((주)쿨웨이브)'!H16 -> 9 | I10: ='점수집계표((주)쿨웨이브)'!I16 -> 6.3 | J10: ='점수집계표((주)쿨웨이브)'!J16 -> 2 | K10: ='점수집계표((주)쿨웨이브)'!K16 -> 4.5 | L10: ='점수집계표((주)쿨웨이브)'!L16 -> 68.8 | M10: 적격
B11: 2 | C11: 주식회사 온앤미 | D11: ='점수집계표(주식회사 온앤미)'!D16 -> 9 | E11: ='점수집계표(주식회사 온앤미)'!E16 -> 9 | F11: ='점수집계표(주식회사 온앤미)'!F16 -> 14.666667 | G11: ='점수집계표(주식회사 온앤미)'!G16 -> 14 | H11: ='점수집계표(주식회사 온앤미)'!H16 -> 9.6666667 | I11: ='점수집계표(주식회사 온앤미)'!I16 -> 6.3666667 | J11: ='점수집계표(주식회사 온앤미)'!J16 -> 5 | K11: ='점수집계표(주식회사 온앤미)'!K16 -> 4.5 | L11: ='점수집계표(주식회사 온앤미)'!L16 -> 72.2 | M11: 적격

Sheet 점수집계표((주)쿨웨이브)
B2: 기술능력평가 점수 집계표
B4: 업체명 | D4: ㈜쿨웨이브
B6: 순번 | C6: 평가위원 | D6: 평가점수
D7: 정성평가(70점) | J7: 정량평가(10점) | L7: 합계
D8: 기획능력(35) | G8: 운영능력(35) | J8: 수행능력(10)
D9: 현실성 (10) | E9: 독창성 (10) | F9: 적정성 (15) | G9: 행사장 운영(15) | H9: 현장관리 (10) | I9: 안전보건수준(10) | J9: 인력보유 (5) | K9: 신용평가 (5)
B10: 1 | C10: 위원1 | D10: 10 | E10: 9 | F10: 15 | G10: 13 | H10: 9 | I10: 6.3 | J10: 2 | K10: 4.5 | L10: =SUM(D10:K10) -> 68.8
B11: 2 | C11: 위원2 | D11: 9 | E11: 10 | F11: 14 | G11: 14 | H11: 9 | I11: 6.3 | J11: 2 | K11: 4.5 | L11: =SUM(D11:K11) -> 68.8
B12: 3 | C12: 위원3 | D12: 9 | E12: 10 | F12: 14 | G12: 14 | H12: 9 | I12: 6.3 | J12: 2 | K12: 4.5 | L12: =SUM(D12:K12) -> 68.8
B13: 4 | C13: 위원4 | D13: 9 | E13: 9 | F13: 15 | G13: 15 | H13: 10 | I13: 6.5 | J13: 2 | K13: 4.5 | L13: =SUM(D13:K13) -> 71 | N13: 최고
B14: 5 | C14: 위원5 | D14: 8 | E14: 8 | F14: 11 | G14: 11 | H14: 8 | I14: 6.3 | J14: 2 | K14: 4.5 | L14: =SUM(D14:K14) -> 58.8 | N14: 최저
B15: 총계 | D15: =SUM(D10:D12) -> 28 | E15: =SUM(E10:E12) -> 29 | F15: =SUM(F10:F12) -> 43 | G15: =SUM(G10:G12) -> 41 | H15: =SUM(H10:H12) -> 27 | I15: =SUM(I10:I12) -> 18.9 | J15: =SUM(J10:J12) -> 6 | K15: =SUM(K10:K12) -> 13.5 | L15: =SUM(D15:K15) -> 206.4
B16: 평균점수 | D16: =D15/3 -> 9.3333333 | E16: =E15/3 -> 9.6666667 | F16: =F15/3 -> 14.333333 | G16: =G15/3 -> 13.666667 | H16: =H15/3 -> 9 | I16: =I15/3 -> 6.3 | J16: =J15/3 -> 2 | K16: =K15/3 -> 4.5 | L16: =L15/3 -> 68.8
G18: 집계일자: | H18: 2026.9.14.
G19: 담 당 자: | H19: 최 연 진

Sheet 점수집계표(주식회사 온앤미)
B2: 기술능력평가 점수 집계표
B4: 업체명 | D4: 주식회사 온앤미
B6: 순번 | C6: 평가위원 | D6: 평가점수
D7: 정성평가(70점) | J7: 정량평가(10점) | L7: 합계
D8: 기획능력(35) | G8: 운영능력(35) | J8: 수행능력(10)
D9: 현실성 (10) | E9: 독창성 (10) | F9: 적정성 (15) | G9: 행사장 운영(15) | H9: 현장관리 (10) | I9: 안전보건수준(10) | J9: 인력보유 (5) | K9: 신용평가 (5)
B10: 1 | C10: 위원1 | D10: 10 | E10: 10 | F10: 15 | G10: 15 | H10: 10 | I10: 6.3 | J10: 5 | K10: 4.5 | L10: =SUM(D10:K10) -> 75.8 | N10: 최고
B11: 2 | C11: 위원2 | D11: 9 | E11: 9 | F11: 15 | G11: 14 | H11: 10 | I11: 6.3 | J11: 5 | K11: 4.5 | L11: =SUM(D11:K11) -> 72.8
B12: 3 | C12: 위원3 | D12: 9 | E12: 9 | F12: 14 | G12: 13 | H12: 10 | I12: 6.3 | J12: 5 | K12: 4.5 | L12: =SUM(D12:K12) -> 70.8
B13: 4 | C13: 위원4 | D13: 9 | E13: 9 | F13: 15 | G13: 15 | H13: 9 | I13: 6.5 | J13: 5 | K13: 4.5 | L13: =SUM(D13:K13) -> 73
B14: 5 | C14: 위원5 | D14: 10 | E14: 9 | F14: 13 | G14: 13 | H14: 8 | I14: 6.3 | J14: 5 | K14: 4.5 | L14: =SUM(D14:K14) -> 68.8 | N14: 최저
B15: 총계 | D15: =SUM(D11:D13) -> 27 | E15: =SUM(E11:E13) -> 27 | F15: =SUM(F11:F13) -> 44 | G15: =SUM(G11:G13) -> 42 | H15: =SUM(H11:H13) -> 29 | I15: =SUM(I11:I13) -> 19.1 | J15: =SUM(J11:J13) -> 15 | K15: =SUM(K11:K13) -> 13.5 | L15: =SUM(D15:K15) -> 216.6
B16: 평균점수 | D16: =D15/3 -> 9 | E16: =E15/3 -> 9 | F16: =F15/3 -> 14.666667 | G16: =G15/3 -> 14 | H16: =H15/3 -> 9.6666667 | I16: =I15/3 -> 6.3666667 | J16: =J15/3 -> 5 | K16: =K15/3 -> 4.5 | L16: =L15/3 -> 72.2
G18: 집계일자: | H18: 2026.9.14.
G19: 담 당 자: | H19: 최 연 진
