Workbook

Sheet 제안서 평가 총괄표
A1: 제안서 평가 총괄표
A2: 사업명 | C2: 발달장애인용 그림직업흥미검사 접근성 향상 연구 용역
H3: 평가일자 : 2026. 5. 18.
A4: 순번 | B4: 제안업체 | C4: 평가점수 | I4: 기술 평가 점수 (80점)
C5: 사업수행 계획 | D5: 지식 및 기술능력 | E5: 제안사의 역량 | F5: 인력, 조직 관리 | G5: 지원 및 사후관리 | H5: 신용평가 등급
A6: 1 | B6: ='제안서집계표(업체1)'!$C$2 -> 소소한 소통 | C6: ='제안서집계표(업체1)'!D12 -> 17 | D6: ='제안서집계표(업체1)'!E12 -> 17 | E6: ='제안서집계표(업체1)'!F12 -> 13 | F6: ='제안서집계표(업체1)'!G12 -> 7.3333333 | G6: ='제안서집계표(업체1)'!H12 -> 8 | H6: ='제안서집계표(업체1)'!I12 -> 4.75 | I6: ='제안서집계표(업체1)'!C12 -> 67.083333
A7: 2 | B7: ='제안서집계표(업체2)'!$C$2 -> 동남보건대학교 산학협력단 | C7: ='제안서집계표(업체2)'!D12 -> 17.666667 | D7: ='제안서집계표(업체2)'!E12 -> 18.333333 | E7: ='제안서집계표(업체2)'!F12 -> 14 | F7: ='제안서집계표(업체2)'!G12 -> 7.3333333 | G7: ='제안서집계표(업체2)'!H12 -> 8.6666667 | H7: ='제안서집계표(업체2)'!I12 -> 5 | I7: ='제안서집계표(업체2)'!C12 -> 71
A8: 3
A9: 4
A10: 5

Sheet 제안서집계표(업체1)
A1: 제안서 평가 집계표
A2: 제안업체명 | C2: 소소한 소통
H3: 평가일자 : 2026.05.18.
A4: 획득 점수 순서 | B4: 심사위원 | C4: 평가점수
C5: 합계 | D5: 사업수행 계획 | E5: 지식 및 기술능력 | F5: 제안사의 역량 | G5: 인력, 조직 관리 | H5: 지원 및 사후관리 | I5: 신용평가 등급 | K5: 순위 | L5: 구분 | M5: 합계 | N5: 사업수행 계획 | O5: 지식 및 기술능력 | P5: 제안사의 역량 | Q5: 인력, 조직 관리 | R5: 지원 및 사후관리 | S5: 신용평가 등급
A6: 1 | B6: =VLOOKUP(A6,$K$6:$S$10,2,FALSE) -> 위원2 | C6: =VLOOKUP(A6,$K$6:$S$10,3,FALSE) -> 72.75 | D6: =VLOOKUP(A6,$K$6:$S$10,4,FALSE) -> 18 | E6: =VLOOKUP(A6,$K$6:$S$10,5,FALSE) -> 17 | F6: =VLOOKUP(A6,$K$6:$S$10,6,FALSE) -> 14 | G6: =VLOOKUP(A6,$K$6:$S$10,7,FALSE) -> 10 | H6: =VLOOKUP(A6,$K$6:$S$10,8,FALSE) -> 9 | I6: =VLOOKUP(A6,$K$6:$S$10,9,FALSE) -> 4.75 | K6: =_xlfn.RANK.AVG(M6,$M$6:$M$10) -> 4 | L6: =위원1!$E$3 -> 위원1 | M6: =위원1!$D$12 -> 64.75 | N6: =위원1!$D$6 -> 15 | O6: =위원1!$D$7 -> 17 | P6: =위원1!$D$8 -> 13 | Q6: =위원1!$D$9 -> 8 | R6: =위원1!D$10 -> 7 | S6: =위원1!$D$11 -> 4.75
A7: 2 | B7: =VLOOKUP(A7,$K$6:$S$10,2,FALSE) -> 위원3 | C7: =VLOOKUP(A7,$K$6:$S$10,3,FALSE) -> 68.75 | D7: =VLOOKUP(A7,$K$6:$S$10,4,FALSE) -> 18 | E7: =VLOOKUP(A7,$K$6:$S$10,5,FALSE) -> 17 | F7: =VLOOKUP(A7,$K$6:$S$10,6,FALSE) -> 13 | G7: =VLOOKUP(A7,$K$6:$S$10,7,FALSE) -> 7 | H7: =VLOOKUP(A7,$K$6:$S$10,8,FALSE) -> 9 | I7: =VLOOKUP(A7,$K$6:$S$10,9,FALSE) -> 4.75 | K7: =_xlfn.RANK.AVG(M7,$M$6:$M$10) -> 1 | L7: =위원2!$E$3 -> 위원2 | M7: =위원2!$D$12 -> 72.75 | N7: =위원2!$D$6 -> 18 | O7: =위원2!$D$7 -> 17 | P7: =위원2!$D$8 -> 14 | Q7: =위원2!$D$9 -> 10 | R7: =위원2!D$10 -> 9 | S7: =위원2!$D$11 -> 4.75
A8: 3 | B8: =VLOOKUP(A8,$K$6:$S$10,2,FALSE) -> 위원5 | C8: =VLOOKUP(A8,$K$6:$S$10,3,FALSE) -> 67.75 | D8: =VLOOKUP(A8,$K$6:$S$10,4,FALSE) -> 18 | E8: =VLOOKUP(A8,$K$6:$S$10,5,FALSE) -> 17 | F8: =VLOOKUP(A8,$K$6:$S$10,6,FALSE) -> 13 | G8: =VLOOKUP(A8,$K$6:$S$10,7,FALSE) -> 7 | H8: =VLOOKUP(A8,$K$6:$S$10,8,FALSE) -> 8 | I8: =VLOOKUP(A8,$K$6:$S$10,9,FALSE) -> 4.75 | K8: =_xlfn.RANK.AVG(M8,$M$6:$M$10) -> 2 | L8: =위원3!$E$3 -> 위원3 | M8: =위원3!$D$12 -> 68.75 | N8: =위원3!$D$6 -> 18 | O8: =위원3!$D$7 -> 17 | P8: =위원3!$D$8 -> 13 | Q8: =위원3!$D$9 -> 7 | R8: =위원3!D$10 -> 9 | S8: =위원3!$D$11 -> 4.75
A9: 4 | B9: =VLOOKUP(A9,$K$6:$S$10,2,FALSE) -> 위원1 | C9: =VLOOKUP(A9,$K$6:$S$10,3,FALSE) -> 64.75 | D9: =VLOOKUP(A9,$K$6:$S$10,4,FALSE) -> 15 | E9: =VLOOKUP(A9,$K$6:$S$10,5,FALSE) -> 17 | F9: =VLOOKUP(A9,$K$6:$S$10,6,FALSE) -> 13 | G9: =VLOOKUP(A9,$K$6:$S$10,7,FALSE) -> 8 | H9: =VLOOKUP(A9,$K$6:$S$10,8,FALSE) -> 7 | I9: =VLOOKUP(A9,$K$6:$S$10,9,FALSE) -> 4.75 | K9: =_xlfn.RANK.AVG(M9,$M$6:$M$10) -> 5 | L9: =위원4!$E$3 -> 위원4 | M9: =위원4!$D$12 -> 59.75 | N9: =위원4!$D$6 -> 11 | O9: =위원4!$D$7 -> 17 | P9: =위원4!$D$8 -> 14 | Q9: =위원4!$D$9 -> 7 | R9: =위원4!D$10 -> 6 | S9: =위원4!$D$11 -> 4.75
A10: 5 | B10: =VLOOKUP(A10,$K$6:$S$10,2,FALSE) -> 위원4 | C10: =VLOOKUP(A10,$K$6:$S$10,3,FALSE) -> 59.75 | D10: =VLOOKUP(A10,$K$6:$S$10,4,FALSE) -> 11 | E10: =VLOOKUP(A10,$K$6:$S$10,5,FALSE) -> 17 | F10: =VLOOKUP(A10,$K$6:$S$10,6,FALSE) -> 14 | G10: =VLOOKUP(A10,$K$6:$S$10,7,FALSE) -> 7 | H10: =VLOOKUP(A10,$K$6:$S$10,8,FALSE) -> 6 | I10: =VLOOKUP(A10,$K$6:$S$10,9,FALSE) -> 4.75 | K10: =_xlfn.RANK.AVG(M10,$M$6:$M$10) -> 3 | L10: =위원5!$E$3 -> 위원5 | M10: =위원5!$D$12 -> 67.75 | N10: =위원5!$D$6 -> 18 | O10: =위원5!$D$7 -> 17 | P10: =위원5!$D$8 -> 13 | Q10: =위원5!$D$9 -> 7 | R10: =위원5!D$10 -> 8 | S10: =위원5!$D$11 -> 4.75
A11: 총 계 (2~4순위) | C11: =SUM(C7:C9) -> 201.25 | D11: =SUM(D7:D9) -> 51 | E11: =SUM(E7:E9) -> 51 | F11: =SUM(F7:F9) -> 39 | G11: =SUM(G7:G9) -> 22 | H11: =SUM(H7:H9) -> 24 | I11: =SUM(I7:I9) -> 14.25
A12: 평 점 (총계÷3) | C12: =AVERAGE(C7:C9) -> 67.083333 | D12: =AVERAGE(D7:D9) -> 17 | E12: =AVERAGE(E7:E9) -> 17 | F12: =AVERAGE(F7:F9) -> 13 | G12: =AVERAGE(G7:G9) -> 7.3333333 | H12: =AVERAGE(H7:H9) -> 8 | I12: =AVERAGE(I7:I9) -> 4.75
A13: ※ 합계 점수에 따라 점수 순위 1위(최고점)와 5위(최저점)을 제외하고 2～4위 순위점수의 총계와 평점을 계산함

Sheet 제안서집계표(업체2)
A1: 제안서 평가 집계표
A2: 제안업체명 | C2: 동남보건대학교 산학협력단
H3: 평가일자 : 2026.05.18.
A4: 획득 점수 순서 | B4: 심사위원 | C4: 평가점수
C5: 합계 | D5: 사업수행 계획 | E5: 지식 및 기술능력 | F5: 제안사의 역량 | G5: 인력, 조직 관리 | H5: 지원 및 사후관리 | I5: 신용평가 등급 | K5: 순위 | L5: 구분 | M5: 합계 | N5: 사업수행 계획 | O5: 지식 및 기술능력 | P5: 제안사의 역량 | Q5: 인력, 조직 관리 | R5: 지원 및 사후관리 | S5: 신용평가 등급
A6: 1 | B6: =VLOOKUP(A6,$K$6:$S$10,2,FALSE) -> 위원5 | C6: =VLOOKUP(A6,$K$6:$S$10,3,FALSE) -> 78 | D6: =VLOOKUP(A6,$K$6:$S$10,4,FALSE) -> 19 | E6: =VLOOKUP(A6,$K$6:$S$10,5,FALSE) -> 20 | F6: =VLOOKUP(A6,$K$6:$S$10,6,FALSE) -> 15 | G6: =VLOOKUP(A6,$K$6:$S$10,7,FALSE) -> 9 | H6: =VLOOKUP(A6,$K$6:$S$10,8,FALSE) -> 10 | I6: =VLOOKUP(A6,$K$6:$S$10,9,FALSE) -> 5 | K6: 4 | L6: =위원1!$E$3 -> 위원1 | M6: =위원1!$E$12 -> 70 | N6: =위원1!$E$6 -> 17 | O6: =위원1!$E$7 -> 17 | P6: =위원1!$E$8 -> 14 | Q6: =위원1!$E$9 -> 8 | R6: =위원1!$E$10 -> 9 | S6: =위원1!$E$11 -> 5
A7: 2 | B7: =VLOOKUP(A7,$K$6:$S$10,2,FALSE) -> 위원2 | C7: =VLOOKUP(A7,$K$6:$S$10,3,FALSE) -> 73 | D7: =VLOOKUP(A7,$K$6:$S$10,4,FALSE) -> 20 | E7: =VLOOKUP(A7,$K$6:$S$10,5,FALSE) -> 19 | F7: =VLOOKUP(A7,$K$6:$S$10,6,FALSE) -> 14 | G7: =VLOOKUP(A7,$K$6:$S$10,7,FALSE) -> 7 | H7: =VLOOKUP(A7,$K$6:$S$10,8,FALSE) -> 8 | I7: =VLOOKUP(A7,$K$6:$S$10,9,FALSE) -> 5 | K7: =_xlfn.RANK.AVG(M7,$M$6:$M$10) -> 2 | L7: =위원2!$E$3 -> 위원2 | M7: =위원2!$E$12 -> 73 | N7: =위원2!$E$6 -> 20 | O7: =위원2!$E$7 -> 19 | P7: =위원2!$E$8 -> 14 | Q7: =위원2!$E$9 -> 7 | R7: =위원2!$E$10 -> 8 | S7: =위원2!$E$11 -> 5
A8: 3 | B8: =VLOOKUP(A8,$K$6:$S$10,2,FALSE) -> 위원4 | C8: =VLOOKUP(A8,$K$6:$S$10,3,FALSE) -> 70 | D8: =VLOOKUP(A8,$K$6:$S$10,4,FALSE) -> 16 | E8: =VLOOKUP(A8,$K$6:$S$10,5,FALSE) -> 19 | F8: =VLOOKUP(A8,$K$6:$S$10,6,FALSE) -> 14 | G8: =VLOOKUP(A8,$K$6:$S$10,7,FALSE) -> 7 | H8: =VLOOKUP(A8,$K$6:$S$10,8,FALSE) -> 9 | I8: =VLOOKUP(A8,$K$6:$S$10,9,FALSE) -> 5 | K8: =_xlfn.RANK.AVG(M8,$M$6:$M$10) -> 5 | L8: =위원3!$E$3 -> 위원3 | M8: =위원3!$E$12 -> 68 | N8: =위원3!$E$6 -> 19 | O8: =위원3!$E$7 -> 15 | P8: =위원3!$E$8 -> 14 | Q8: =위원3!$E$9 -> 6 | R8: =위원3!$E$10 -> 9 | S8: =위원3!$E$11 -> 5
A9: 4 | B9: =VLOOKUP(A9,$K$6:$S$10,2,FALSE) -> 위원1 | C9: =VLOOKUP(A9,$K$6:$S$10,3,FALSE) -> 70 | D9: =VLOOKUP(A9,$K$6:$S$10,4,FALSE) -> 17 | E9: =VLOOKUP(A9,$K$6:$S$10,5,FALSE) -> 17 | F9: =VLOOKUP(A9,$K$6:$S$10,6,FALSE) -> 14 | G9: =VLOOKUP(A9,$K$6:$S$10,7,FALSE) -> 8 | H9: =VLOOKUP(A9,$K$6:$S$10,8,FALSE) -> 9 | I9: =VLOOKUP(A9,$K$6:$S$10,9,FALSE) -> 5 | K9: 3 | L9: =위원4!$E$3 -> 위원4 | M9: =위원4!$E$12 -> 70 | N9: =위원4!$E$6 -> 16 | O9: =위원4!$E$7 -> 19 | P9: =위원4!$E$8 -> 14 | Q9: =위원4!$E$9 -> 7 | R9: =위원4!$E$10 -> 9 | S9: =위원4!$E$11 -> 5
A10: 5 | B10: =VLOOKUP(A10,$K$6:$S$10,2,FALSE) -> 위원3 | C10: =VLOOKUP(A10,$K$6:$S$10,3,FALSE) -> 68 | D10: =VLOOKUP(A10,$K$6:$S$10,4,FALSE) -> 19 | E10: =VLOOKUP(A10,$K$6:$S$10,5,FALSE) -> 15 | F10: =VLOOKUP(A10,$K$6:$S$10,6,FALSE) -> 14 | G10: =VLOOKUP(A10,$K$6:$S$10,7,FALSE) -> 6 | H10: =VLOOKUP(A10,$K$6:$S$10,8,FALSE) -> 9 | I10: =VLOOKUP(A10,$K$6:$S$10,9,FALSE) -> 5 | K10: =_xlfn.RANK.AVG(M10,$M$6:$M$10) -> 1 | L10: =위원5!$E$3 -> 위원5 | M10: =위원5!$E$12 -> 78 | N10: =위원5!$E$6 -> 19 | O10: =위원5!$E$7 -> 20 | P10: =위원5!$E$8 -> 15 | Q10: =위원5!$E$9 -> 9 | R10: =위원5!$E$10 -> 10 | S10: =위원5!$E$11 -> 5
A11: 총 계 (2~4순위) | C11: =SUM(C7:C9) -> 213 | D11: =SUM(D7:D9) -> 53 | E11: =SUM(E7:E9) -> 55 | F11: =SUM(F7:F9) -> 42 | G11: =SUM(G7:G9) -> 22 | H11: =SUM(H7:H9) -> 26 | I11: =SUM(I7:I9) -> 15
A12: 평 점 (총계÷3) | C12: =AVERAGE(C7:C9) -> 71 | D12: =AVERAGE(D7:D9) -> 17.666667 | E12: =AVERAGE(E7:E9) -> 18.333333 | F12: =AVERAGE(F7:F9) -> 14 | G12: =AVERAGE(G7:G9) -> 7.3333333 | H12: =AVERAGE(H7:H9) -> 8.6666667 | I12: =AVERAGE(I7:I9) -> 5
A13: ※ 합계 점수에 따라 점수 순위 1위(최고점)와 5위(최저점)을 제외하고 2～4위 순위점수의 총계와 평점을 계산함

Sheet 위원1
A1: 위원별 제안서 평가 집계표
A2: 사업명 | B2: 발달장애인용 그림직업흥미검사 접근성 향상 연구 용역
A3: 평가일자 | B3: 46160 | C3: 평가위원 | E3: 위원1
A5: 평가항목 | B5: 평가요소 | C5: 배점 | D5: 업체1 | E5: 업체2
A6: 사업수행 계획 | B6: - 과업이해도: 필요성 및 기대효과 - 예상문제점 및 대응방안 - 과업수행 전략 및 기법 - 제안요청서와의 부합성 | C6: 20 | D6: 15 | E6: 17
A7: 지식 및 기술능력 | B7: - 사업수행관련 정보, 자료 확보 - 참여인력의 전문성 및 실무경험 - 관련 지식 및 기술보유 - 유사분야 연구용역 수행 노하우 등 | C7: 20 | D7: 17 | E7: 17
A8: 제안사의 역량 | B8: - 신뢰성, 공신력, 적합성 등 - 유사연구 수행경험 보유 등 | C8: 15 | D8: 13 | E8: 14
A9: 인력, 조직 관리 | B9: - 참여인력 구성의 적정성 - 조직관리 계획의 타당성 - 업무분장의 적정성 | C9: 10 | D9: 8 | E9: 8
A10: 지원 및 사후관리 | B10: - 지원 및 사후관리의 신뢰성 - 전문지식 및 경험의 공유 및 전수 | C10: 10 | D10: 7 | E10: 9
A11: 신용평가 등급 | B11: - 경영상태(신용평가등급에 의한 평가) | C11: 5 | D11: 4.75 | E11: 5
A12: 총계 | C12: =SUM(C6:C11) -> 80 | D12: =SUM(D6:D11) -> 64.75 | E12: =SUM(E6:E11) -> 70
A13: 총평

Sheet 위원2
A1: 위원별 제안서 평가 집계표
A2: 사업명 | B2: 발달장애인용 그림직업흥미검사 접근성 향상 연구 용역
A3: 평가일자 | B3: 46160 | C3: 평가위원 | E3: 위원2
A5: 평가항목 | B5: 평가요소 | C5: 배점 | D5: 업체1 | E5: 업체2
A6: 사업수행 계획 | B6: - 과업이해도: 필요성 및 기대효과 - 예상문제점 및 대응방안 - 과업수행 전략 및 기법 - 제안요청서와의 부합성 | C6: 20 | D6: 18 | E6: 20
A7: 지식 및 기술능력 | B7: - 사업수행관련 정보, 자료 확보 - 참여인력의 전문성 및 실무경험 - 관련 지식 및 기술보유 - 유사분야 연구용역 수행 노하우 등 | C7: 20 | D7: 17 | E7: 19
A8: 제안사의 역량 | B8: - 신뢰성, 공신력, 적합성 등 - 유사연구 수행경험 보유 등 | C8: 15 | D8: 14 | E8: 14
A9: 인력, 조직 관리 | B9: - 참여인력 구성의 적정성 - 조직관리 계획의 타당성 - 업무분장의 적정성 | C9: 10 | D9: 10 | E9: 7
A10: 지원 및 사후관리 | B10: - 지원 및 사후관리의 신뢰성 - 전문지식 및 경험의 공유 및 전수 | C10: 10 | D10: 9 | E10: 8
A11: 신용평가 등급 | B11: - 경영상태(신용평가등급에 의한 평가) | C11: 5 | D11: 4.75 | E11: 5
A12: 총계 | C12: =SUM(C6:C11) -> 80 | D12: =SUM(D6:D11) -> 72.75 | E12: =SUM(E6:E11) -> 73
A13: 총평 | B13: * 제안사 A : 평가 문항에 대한 접근성 제안이 좋음. 다만 문항에 대한 이해도를 위해 음성 제시, 쉬운 문항 수정 반영에 있어 문항의 결과에 크게 영향을 미치지 않는 자체 기준이 필요함 * 제안사 B: 사업에 대한 이해도가 높고 문항 및 결과 프로파일 접근에 대한 연구(안)이 기대됨. 다만 온라인 평가, 태블릿 구현 등 UI/UX 개발 관련하여 보안 및 개발 진행이 필요함

Sheet 위원3
A1: 위원별 제안서 평가 집계표
A2: 사업명 | B2: 발달장애인용 그림직업흥미검사 접근성 향상 연구 용역
A3: 평가일자 | B3: 46160 | C3: 평가위원 | E3: 위원3
A5: 평가항목 | B5: 평가요소 | C5: 배점 | D5: 업체1 | E5: 업체2
A6: 사업수행 계획 | B6: - 과업이해도: 필요성 및 기대효과 - 예상문제점 및 대응방안 - 과업수행 전략 및 기법 - 제안요청서와의 부합성 | C6: 20 | D6: 18 | E6: 19
A7: 지식 및 기술능력 | B7: - 사업수행관련 정보, 자료 확보 - 참여인력의 전문성 및 실무경험 - 관련 지식 및 기술보유 - 유사분야 연구용역 수행 노하우 등 | C7: 20 | D7: 17 | E7: 15
A8: 제안사의 역량 | B8: - 신뢰성, 공신력, 적합성 등 - 유사연구 수행경험 보유 등 | C8: 15 | D8: 13 | E8: 14
A9: 인력, 조직 관리 | B9: - 참여인력 구성의 적정성 - 조직관리 계획의 타당성 - 업무분장의 적정성 | C9: 10 | D9: 7 | E9: 6
A10: 지원 및 사후관리 | B10: - 지원 및 사후관리의 신뢰성 - 전문지식 및 경험의 공유 및 전수 | C10: 10 | D10: 9 | E10: 9
A11: 신용평가 등급 | B11: - 경영상태(신용평가등급에 의한 평가) | C11: 5 | D11: 4.75 | E11: 5
A12: 총계 | C12: =SUM(C6:C11) -> 80 | D12: =SUM(D6:D11) -> 68.75 | E12: =SUM(E6:E11) -> 68
A13: 총평 | B13: * 제안사 A; 기능적 구현 강점, 발달장애인의 취업 및 훈련 경험 전문성 의문 * 제안사 B: 검사의 이해도 높음. 다만, 검사 구현 및 유지 보수 의문

Sheet 위원4
A1: 위원별 제안서 평가 집계표
A2: 사업명 | B2: 발달장애인용 그림직업흥미검사 접근성 향상 연구 용역
A3: 평가일자 | B3: 46160 | C3: 평가위원 | E3: 위원4
A5: 평가항목 | B5: 평가요소 | C5: 배점 | D5: 업체1 | E5: 업체2
A6: 사업수행 계획 | B6: - 과업이해도: 필요성 및 기대효과 - 예상문제점 및 대응방안 - 과업수행 전략 및 기법 - 제안요청서와의 부합성 | C6: 20 | D6: 11 | E6: 16
A7: 지식 및 기술능력 | B7: - 사업수행관련 정보, 자료 확보 - 참여인력의 전문성 및 실무경험 - 관련 지식 및 기술보유 - 유사분야 연구용역 수행 노하우 등 | C7: 20 | D7: 17 | E7: 19
A8: 제안사의 역량 | B8: - 신뢰성, 공신력, 적합성 등 - 유사연구 수행경험 보유 등 | C8: 15 | D8: 14 | E8: 14
A9: 인력, 조직 관리 | B9: - 참여인력 구성의 적정성 - 조직관리 계획의 타당성 - 업무분장의 적정성 | C9: 10 | D9: 7 | E9: 7
A10: 지원 및 사후관리 | B10: - 지원 및 사후관리의 신뢰성 - 전문지식 및 경험의 공유 및 전수 | C10: 10 | D10: 6 | E10: 9
A11: 신용평가 등급 | B11: - 경영상태(신용평가등급에 의한 평가) | C11: 5 | D11: 4.75 | E11: 5
A12: 총계 | C12: =SUM(C6:C11) -> 80 | D12: =SUM(D6:D11) -> 59.75 | E12: =SUM(E6:E11) -> 70
A13: 총평 | B13: * 제안사 A: 연구 방법과 전략의 보완 필요 * 제안사 B: 온라인 시스템 개발 인력 보강 필요&전년도 연구 경력은 강점

Sheet 위원5
A1: 위원별 제안서 평가 집계표
A2: 사업명 | B2: 발달장애인용 그림직업흥미검사 접근성 향상 연구 용역
A3: 평가일자 | B3: 46160 | C3: 평가위원 | E3: 위원5
A5: 평가항목 | B5: 평가요소 | C5: 배점 | D5: 업체1 | E5: 업체2
A6: 사업수행 계획 | B6: - 과업이해도: 필요성 및 기대효과 - 예상문제점 및 대응방안 - 과업수행 전략 및 기법 - 제안요청서와의 부합성 | C6: 20 | D6: 18 | E6: 19
A7: 지식 및 기술능력 | B7: - 사업수행관련 정보, 자료 확보 - 참여인력의 전문성 및 실무경험 - 관련 지식 및 기술보유 - 유사분야 연구용역 수행 노하우 등 | C7: 20 | D7: 17 | E7: 20
A8: 제안사의 역량 | B8: - 신뢰성, 공신력, 적합성 등 - 유사연구 수행경험 보유 등 | C8: 15 | D8: 13 | E8: 15
A9: 인력, 조직 관리 | B9: - 참여인력 구성의 적정성 - 조직관리 계획의 타당성 - 업무분장의 적정성 | C9: 10 | D9: 7 | E9: 9
A10: 지원 및 사후관리 | B10: - 지원 및 사후관리의 신뢰성 - 전문지식 및 경험의 공유 및 전수 | C10: 10 | D10: 8 | E10: 10
A11: 신용평가 등급 | B11: - 경영상태(신용평가등급에 의한 평가) | C11: 5 | D11: 4.75 | E11: 5
A12: 총계 | C12: =SUM(C6:C11) -> 80 | D12: =SUM(D6:D11) -> 67.75 | E12: =SUM(E6:E11) -> 78
A13: 총평 | B13: * 제안사 A: 전반적으로 과업이해도가 높으나 인력배분 및 문항 등 이해에 대한 시간이 많이 필요해 보임. * 제안사 B: 문항 설계 등 과업의 연속성 및 과업전반에 따른 전문성, 사후관리에 대한 사업수행에 더 적합해보임
